BEGIN:VCALENDAR
VERSION:2.0
PRODID:-//SANQC - ECPv4.9.14//NONSGML v1.0//EN
CALSCALE:GREGORIAN
METHOD:PUBLISH
X-WR-CALNAME:SANQC
X-ORIGINAL-URL:https://www.sanqc.ca
X-WR-CALDESC:Events for SANQC
BEGIN:VTIMEZONE
TZID:America/Edmonton
BEGIN:DAYLIGHT
TZOFFSETFROM:-0700
TZOFFSETTO:-0600
TZNAME:MDT
DTSTART:20220313T090000
END:DAYLIGHT
BEGIN:STANDARD
TZOFFSETFROM:-0600
TZOFFSETTO:-0700
TZNAME:MST
DTSTART:20221106T080000
END:STANDARD
END:VTIMEZONE
BEGIN:VEVENT
DTSTART;TZID=America/Edmonton:20221213T123000
DTEND;TZID=America/Edmonton:20221213T133000
DTSTAMP:20260424T031605
CREATED:20221130T161754Z
LAST-MODIFIED:20221202T172520Z
UID:8059-1670934600-1670938200@www.sanqc.ca
SUMMARY:SANQC 2022 Annual General Meeting (AGM)
DESCRIPTION:Join your Students’ Association on Tue\, Dec 13 from 12:30 – 1:30 pm for our Annual General Meeting (AGM)! You play a vital role in this process and we need your input. \nHow to Register \n\nIf you are a current Students’ Association member (have paid SANQC fees this term)\, register HERE.\nThe deadline to register is Mon\, Dec 12 at 9 am.\n\nWays to Attend \n\nWhen: Tue\, Dec 13 from 12:30 – 1:30 pm\nIn person: Room 2-013\, SCFL\, doors open at 12 pm on Tue\, Dec 13. All in person attendees will get a FREE pizza lunch! An email reminder will be sent to you following the registration deadline. Student ID required.\nVirtually: A link to the virtual session will be emailed to you following the registration deadline.\n\nAttend and Vote to Win! \nNot only is this a great way to make your voice heard\, but every eligible student who attends the full meeting and votes has a chance to win: \n\n1 Apple Watch Series 8 or\n1 of 2 gift cards valued at $100 (choice of a prepaid Mastercard\, Amazon.ca or PC Superstore)\n\nStudents’ Council Connect Fest \nWant to learn more about the AGM? Visit your Students’ Council to ask them any questions you have and win some fun swag from our spin wheel. \n\nTue\, Dec 6 • Imagine Hall • 11:30 am – 1:30 pm\nWed\, Dec 7 • Atrium • 11:30 am – 1:30 pm\nThu\, Dec 8 •  Imagine Hall • 11:30 am – 1:30 pm\n\nStill have Questions? \nVisit the SANQC Office (1-114\, SCFL) or email students.association@norquest.ca with any questions that you have and we’ll be happy to help you. \nSANQC 2022 AGM Agenda\n1.0 Annual General Meeting Agenda \nMotion: “To approve the Annual General Meeting Agenda\, as presented.” \n2.0 Annual General Meeting Minutes \nMotion: “To approve the Annual General Meeting resolutions from Dec 15\, 2021 Annual General Meeting\, as presented.” \nClick here for the 2021 AGM resolutions. \n3.0 Students’ Association Fee Changes \nMotion: “Be it resolved by special resolution of the Annual General Meeting of the Students’ Association of NorQuest College that the on-campus Students’ Association fee be increased from $53.50 to $66.00.” \n4.0 Presentation of Audited Financial Statements \nMotion: “Be it resolved by special resolution of the Annual General Meeting of the Students’ Association of NorQuest College that the 2022 audited financial statements of the Students’ Association be accepted as presented.” \nClick here for the audited financial statement. \n5.0 Report on Activities \n6.0 Adjournment \nMotion: “To adjourn the 2022 Annual General Meeting of the Students’ Association of NorQuest College.” \n  \n
URL:https://www.sanqc.ca/event/2022agm/
CATEGORIES:Advocacy Event,Students' Council
ATTACH;FMTTYPE=image/png:/wp-content/uploads/2022/11/Dec-13-AGM-Web.png
END:VEVENT
END:VCALENDAR