BEGIN:VCALENDAR
VERSION:2.0
PRODID:-//SANQC - ECPv4.9.14//NONSGML v1.0//EN
CALSCALE:GREGORIAN
METHOD:PUBLISH
X-WR-CALNAME:SANQC
X-ORIGINAL-URL:https://www.sanqc.ca
X-WR-CALDESC:Events for SANQC
BEGIN:VTIMEZONE
TZID:America/Edmonton
BEGIN:DAYLIGHT
TZOFFSETFROM:-0700
TZOFFSETTO:-0600
TZNAME:MDT
DTSTART:20230312T090000
END:DAYLIGHT
BEGIN:STANDARD
TZOFFSETFROM:-0600
TZOFFSETTO:-0700
TZNAME:MST
DTSTART:20231105T080000
END:STANDARD
END:VTIMEZONE
BEGIN:VEVENT
DTSTART;TZID=America/Edmonton:20231129T160000
DTEND;TZID=America/Edmonton:20231129T173000
DTSTAMP:20260424T024315
CREATED:20231107T173635Z
LAST-MODIFIED:20231124T155651Z
UID:8709-1701273600-1701279000@www.sanqc.ca
SUMMARY:SANQC 2023 Annual General Meeting (AGM)
DESCRIPTION:Join your Students’ Association on Wed\, Nov 29 from 4 – 5:30 pm for our Annual General Meeting (AGM)! You play a vital role in this process and we need your input. \nHow to Register \n\nThe deadline to register for this event ended at 9 am on Thu\, Nov 23. Thank you for your interest.\nBefore registering\, please ensure you will be able to attend the entirety of the AGM (4 – 5:30 pm).\nThe deadline to register is Thu\, Nov 23 at 9 am.\n\nWays to Attend \n\nWhen: Wed\, Nov 29 from 4 – 5:30 pm\nIn person:\n\nStudent ID required\nRoom 2-205 in Civic Employees Legacy Tower (CELT).\nDoors open at 3:45 pm on Wed\, Nov 29\n\nNo entry or re-entry will be permitted once the AGM has begun.\n\n\nAll in person attendees will get FREE pizza!\nAn email reminder will be sent to you following the registration deadline.\n\n\nWetaskiwin Virtual Sign-Ups:\n\nEventbrite registration confirmation will be required.\nVirtual session opens at 4 pm on Wed\, Nov 29.\n\nNo entry or re-entry will be permitted once the AGM has begun.\n\n\nCamera on will be required to participate.\nA link to the virtual session will be emailed to you following the registration deadline.\n\n\n\nAttend and Vote to Win! \nNot only is this a great way to make your voice heard\, but every eligible student who attends the full meeting has a chance to win: \n\nOne (1) $500 Walmart Gift Card or one (1) Nintendo Switch Mario Kart 8 Deluxe Bundle\n\nStill have Questions? \nVisit the SANQC Office (1-114\, SCFL) or email students.association@norquest.ca with any questions that you have and we’ll be happy to help you. \nSANQC 2023 AGM Agenda\n1.0 Approval of Agenda \nMotion: “To approve the Annual General Meeting agenda for November 29th\, 2023\, as presented.” \n2.0 Approval of Minutes \nMotion: “To approve the Annual General Meeting of the Students’ Association of NorQuest College on December 15\, 2022.” \nClick HERE for the 2022 AGM resolutions. \n3.0 SANQC Membership Fee Change \nMotion: “To increase the Students’ Association fee from $55.75 to $63.75 for the 2024-2025 Academic year.” \n4.0 SANQC Bylaw Replacement \nMotion: “To repeal the current SANQC bylaws in their entirety and replace them with the proposed SANQC Bylaws. ” \nClick HERE for SANQC’s current bylaws. Click HERE for SANQC’s proposed new bylaws. \n5.0 Presentation of Audited Financial Statements \nMotion: “To accept the 2023 audited financial statements of the Students’ Association as presented.” \nClick HERE for the audited financial statement and HERE for the audit findings letter. \n6.0 Adjournment \nMotion: “To adjourn the 2023 Annual General Meeting of the Students’ Association of NorQuest College.” \nThis meeting will observe Robert’s Rules of Order. For further information\, please click HERE. \n  \n
URL:https://www.sanqc.ca/event/2023sanqcagm/
CATEGORIES:Advocacy Event,Virtual Events
ATTACH;FMTTYPE=image/png:/wp-content/uploads/2023/11/2023SANQCAGM.png
END:VEVENT
END:VCALENDAR