BEGIN:VCALENDAR
VERSION:2.0
PRODID:-//SANQC - ECPv4.9.14//NONSGML v1.0//EN
CALSCALE:GREGORIAN
METHOD:PUBLISH
X-WR-CALNAME:SANQC
X-ORIGINAL-URL:https://www.sanqc.ca
X-WR-CALDESC:Events for SANQC
BEGIN:VTIMEZONE
TZID:America/Edmonton
BEGIN:DAYLIGHT
TZOFFSETFROM:-0700
TZOFFSETTO:-0600
TZNAME:MDT
DTSTART:20240310T090000
END:DAYLIGHT
BEGIN:STANDARD
TZOFFSETFROM:-0600
TZOFFSETTO:-0700
TZNAME:MST
DTSTART:20241103T080000
END:STANDARD
END:VTIMEZONE
BEGIN:VEVENT
DTSTART;TZID=America/Edmonton:20240524T100000
DTEND;TZID=America/Edmonton:20240524T140000
DTSTAMP:20260424T011326
CREATED:20240516T152225Z
LAST-MODIFIED:20240516T152225Z
UID:9168-1716544800-1716559200@www.sanqc.ca
SUMMARY:Convocation Carnival
DESCRIPTION:Graduating students\, let us celebrate YOU! \nJoin your Students’ Association from 10 am – 2 pm on Fri\, May 24 in Imagine Hall for Convocation Carnival! \nWe’ll have games\, a grad cap decorating station\, a photo booth\, popcorn\, cotton candy and door prizes for you to enjoy. \nWe can’t wait to see you there! \n  \n
URL:https://www.sanqc.ca/event/2024convocationcarnival/
LOCATION:Imagine Hall\, 10215 108 St NW\, Edmonton\, AB\, T5J 1L6\, Canada
CATEGORIES:Social Events,Students' Council
END:VEVENT
END:VCALENDAR