BEGIN:VCALENDAR
VERSION:2.0
PRODID:-//SANQC - ECPv4.9.14//NONSGML v1.0//EN
CALSCALE:GREGORIAN
METHOD:PUBLISH
X-WR-CALNAME:SANQC
X-ORIGINAL-URL:https://www.sanqc.ca
X-WR-CALDESC:Events for SANQC
BEGIN:VTIMEZONE
TZID:America/Edmonton
BEGIN:DAYLIGHT
TZOFFSETFROM:-0700
TZOFFSETTO:-0600
TZNAME:MDT
DTSTART:20250309T090000
END:DAYLIGHT
BEGIN:STANDARD
TZOFFSETFROM:-0600
TZOFFSETTO:-0700
TZNAME:MST
DTSTART:20251102T080000
END:STANDARD
END:VTIMEZONE
BEGIN:VEVENT
DTSTART;TZID=America/Edmonton:20251126T173000
DTEND;TZID=America/Edmonton:20251126T190000
DTSTAMP:20260423T221743
CREATED:20251112T151106Z
LAST-MODIFIED:20251112T180704Z
UID:10081-1764178200-1764183600@www.sanqc.ca
SUMMARY:SANQC 2025 Annual General Meeting (AGM)
DESCRIPTION:Join your Students’ Association on Wed\, Nov 26 from 5:30 – 7 pm for our Annual General Meeting (AGM)! You play a vital role in this process and we need your input. \nHow to Register \n\nClick HERE to register for our AGM.\nBefore registering\, please ensure you will be able to attend the entirety of the AGM (5:30 – 7 pm).\nThe deadline to register is Tue\, Nov 25 at 12 pm.\nYou must be a Students’ Association member in good standing (have paid SANQC fees this term) to attend the AGM.\n\nWays to Attend \n\nWhen: Wed\, Nov 26 from 5:30 – 7 pm\nIn person:\n\nStudent ID required\nRoom 2-013 in the Singhmar Centre for Learning (SCFL)\nDoors open at 4:45 pm on Wed\, Nov 26\n\nNo entry or re-entry will be permitted once the AGM has begun.\n\n\nAll in person attendees will get FREE pizza!\nAn email reminder will be sent to you following the registration deadline.\n\n\nVirtual sign-up:\n\nEventbrite registration confirmation will be required.\nVirtual session opens at 5 pm on Wed\, Nov 26.\n\nNo entry or re-entry will be permitted once the AGM has begun.\n\n\nCamera on will be required to participate.\nA link to the virtual session will be emailed to you following the registration deadline.\n\n\n\nAttend and Vote to Win! \nNot only is this a great way to make your voice heard\, but every eligible student who attends the full meeting has a chance to win: \n\nOne (1) $500 Amazon.ca gift card OR one (1) of ten (10) Landmark Movie Night Bundles (each includes 2 admissions\, 2 medium popcorns & 2 medium soft drinks)!\n\nStill have Questions? \nVisit the SANQC Office (1-114\, SCFL) or email students.association@norquest.ca with any questions that you have and we’ll be happy to help you. \nSANQC 2025 AGM Agenda\n1.0 Approval of Agenda \n\nMotion: To approve the Annual General Meeting agenda for November 26th\, 2025\, as presented.\n\n2.0 Approval of Minutes \n\nMotion: To approve the Annual General Meeting Minutes of the Students’ Association of NorQuest College on November 27th\, 2024.\nClick HERE for the 2024 AGM resolutions.\n\n3.0 Presentation of Audited Financial Statements \n\nMotion: To accept the 2025 audited financial statements of the Students’ Association as presented.\nClick HERE for the audited financial statement.\n\n4.0 Auditor Appointment \n\nMotion: To appoint King & Company as the financial auditors for the fiscal year ending June 2026.\n\n5.0 SANQC Bylaw Revisions \n\nMotion: To approve\, by special resolution\, the recommended section A Bylaw revisions #1\, 2\, 3\, 4\, 5 & 6 as presented in the attached supplement\, where strikethrough indicates deletions and underline indicates additions.\nMotion: To approve\, by special resolution\, the recommended section B Bylaw revision #7 – Composition of Council as presented in the attached supplement\, where strikethrough indicates deletions and underline indicates additions.\nMotion: To approve\, by special resolution\, the recommended section C Bylaw revisions #8 & 9 Qualification for Councilors as presented in the attached supplement\, where strikethrough indicates deletions and underline indicates additions.\nMotion: To approve\, by special resolution\, the recommended section D Bylaw revision #10 – Addition of Vice-Chair Role as outlined in the attached supplement\, where strikethrough indicates deletions and underline indicates additions.\nMotion: To approve\, by special resolution\, the recommended section E Bylaw revisions #11\, 12 & 13 as presented in the attached supplement\, where strikethrough indicates deletions and underline indicates additions.\nClick HERE for the Bylaw revision supplement.\n\n6.0 Report on Activities \n7.0 Adjournment \n\nMotion: To adjourn the 2025 Annual General Meeting of the Students’ Association of NorQuest College.\n\nThis meeting will observe Robert’s Rules of Order. For further information\, please click HERE. \n
URL:https://www.sanqc.ca/event/2025sanqcagm/
LOCATION:2-013\, SCFL\, 10215 108 Street NW\, Edmonton\, Alberta\, T5J 1L6\, Canada
ATTACH;FMTTYPE=image/png:/wp-content/uploads/2025/11/SANQCAGM2025Web.png
END:VEVENT
END:VCALENDAR