BEGIN:VCALENDAR
VERSION:2.0
PRODID:-//SANQC - ECPv4.9.14//NONSGML v1.0//EN
CALSCALE:GREGORIAN
METHOD:PUBLISH
X-WR-CALNAME:SANQC
X-ORIGINAL-URL:https://www.sanqc.ca
X-WR-CALDESC:Events for SANQC
BEGIN:VTIMEZONE
TZID:America/Edmonton
BEGIN:DAYLIGHT
TZOFFSETFROM:-0700
TZOFFSETTO:-0600
TZNAME:MDT
DTSTART:20180311T090000
END:DAYLIGHT
BEGIN:STANDARD
TZOFFSETFROM:-0600
TZOFFSETTO:-0700
TZNAME:MST
DTSTART:20181104T080000
END:STANDARD
END:VTIMEZONE
BEGIN:VEVENT
DTSTART;TZID=America/Edmonton:20181017T120000
DTEND;TZID=America/Edmonton:20181017T130000
DTSTAMP:20260424T024818
CREATED:20180927T175413Z
LAST-MODIFIED:20180927T175413Z
UID:2896-1539777600-1539781200@www.sanqc.ca
SUMMARY:7 Cups Launch
DESCRIPTION:Join SANQC and the Centre for Growth and Harmony for the launch of the online tool 7 Cups of Tea. There will be peer supporters\, free tea and refreshments\, and hands on practice with the 7 cups tool. \n
URL:https://www.sanqc.ca/event/7-cups-launch/
LOCATION:Atrium (1-001)\, 10215 108 St NW\, Edmonton\, Alberta\, T5J 1L6\, Canada
CATEGORIES:Mental Health Events
ATTACH;FMTTYPE=image/jpeg:/wp-content/uploads/2018/09/7cups.jpg
END:VEVENT
END:VCALENDAR