BEGIN:VCALENDAR
VERSION:2.0
PRODID:-//SANQC - ECPv4.9.14//NONSGML v1.0//EN
CALSCALE:GREGORIAN
METHOD:PUBLISH
X-WR-CALNAME:SANQC
X-ORIGINAL-URL:https://www.sanqc.ca
X-WR-CALDESC:Events for SANQC
BEGIN:VTIMEZONE
TZID:America/Edmonton
BEGIN:DAYLIGHT
TZOFFSETFROM:-0700
TZOFFSETTO:-0600
TZNAME:MDT
DTSTART:20210314T090000
END:DAYLIGHT
BEGIN:STANDARD
TZOFFSETFROM:-0600
TZOFFSETTO:-0700
TZNAME:MST
DTSTART:20211107T080000
END:STANDARD
END:VTIMEZONE
BEGIN:VEVENT
DTSTART;VALUE=DATE:20210330
DTEND;VALUE=DATE:20210331
DTSTAMP:20260423T225428
CREATED:20210322T175337Z
LAST-MODIFIED:20210326T172627Z
UID:6124-1617062400-1617148799@www.sanqc.ca
SUMMARY:A-maize-ing Trivia
DESCRIPTION:Did you know that Nanaimo Bars are named after a city in British Columbia? That Naan bread originated in Persia and was brought to India during the Mughal era? Or that the American Caesar Salad was first made at a restaurant named Caesar’s in Tijuana Mexico? \nVisit our Facebook and Instagram stories on Tue\, Mar 30 and answer more trivia questions like these. Check them out for more amazing food facts that will blow your mind and find out more about some of the cultures from our diverse student population at NorQuest. \nEvery trivia question you answer correctly will get you an extra entry into a prize draw for a $50 Uber Eats gift card to enjoy different foods of your choice. This contest is open to all current Winter term NorQuest students. \n
URL:https://www.sanqc.ca/event/a-maize-ing-trivia/
CATEGORIES:Social Events
ATTACH;FMTTYPE=image/jpeg:/wp-content/uploads/2021/03/Mar30TriviaWeb.jpeg
END:VEVENT
END:VCALENDAR