BEGIN:VCALENDAR
VERSION:2.0
PRODID:-//SANQC - ECPv4.9.14//NONSGML v1.0//EN
CALSCALE:GREGORIAN
METHOD:PUBLISH
X-WR-CALNAME:SANQC
X-ORIGINAL-URL:https://www.sanqc.ca
X-WR-CALDESC:Events for SANQC
BEGIN:VTIMEZONE
TZID:America/Edmonton
BEGIN:DAYLIGHT
TZOFFSETFROM:-0700
TZOFFSETTO:-0600
TZNAME:MDT
DTSTART:20240310T090000
END:DAYLIGHT
BEGIN:STANDARD
TZOFFSETFROM:-0600
TZOFFSETTO:-0700
TZNAME:MST
DTSTART:20241103T080000
END:STANDARD
END:VTIMEZONE
BEGIN:VEVENT
DTSTART;TZID=America/Edmonton:20240411T100000
DTEND;TZID=America/Edmonton:20240411T150000
DTSTAMP:20260424T024132
CREATED:20231204T231824Z
LAST-MODIFIED:20231218T230229Z
UID:8851-1712829600-1712847600@www.sanqc.ca
SUMMARY:Oxygen Bar
DESCRIPTION:Join your Students’ Association for a relaxing time at our Oxygen Bar. Explore a variety of great scents and take a break from your school work. \n  \n
URL:https://www.sanqc.ca/event/apr11oxygenbar/
LOCATION:Atrium (1-001)\, 10215 108 St NW\, Edmonton\, Alberta\, T5J 1L6\, Canada
CATEGORIES:Social Events
ATTACH;FMTTYPE=image/png:/wp-content/uploads/2023/12/OxygenBar.png
END:VEVENT
END:VCALENDAR