BEGIN:VCALENDAR
VERSION:2.0
PRODID:-//SANQC - ECPv4.9.14//NONSGML v1.0//EN
CALSCALE:GREGORIAN
METHOD:PUBLISH
X-WR-CALNAME:SANQC
X-ORIGINAL-URL:https://www.sanqc.ca
X-WR-CALDESC:Events for SANQC
BEGIN:VTIMEZONE
TZID:America/Edmonton
BEGIN:DAYLIGHT
TZOFFSETFROM:-0700
TZOFFSETTO:-0600
TZNAME:MDT
DTSTART:20230312T090000
END:DAYLIGHT
BEGIN:STANDARD
TZOFFSETFROM:-0600
TZOFFSETTO:-0700
TZNAME:MST
DTSTART:20231105T080000
END:STANDARD
END:VTIMEZONE
BEGIN:VEVENT
DTSTART;TZID=America/Edmonton:20230417T120000
DTEND;TZID=America/Edmonton:20230417T140000
DTSTAMP:20260424T024132
CREATED:20230321T193103Z
LAST-MODIFIED:20230406T204429Z
UID:8294-1681732800-1681740000@www.sanqc.ca
SUMMARY:Crafting with SANQC
DESCRIPTION:Join your Students’ Association for some origami fun! We’ll provide various kinds of papers as well as tutorials on how to make all sorts of different creations. Origami can help exercise your brain\, enhance your hand-eye coordination\, support your mental concentration and all while you relax and take a break from your studies! \nYou can drop by and craft along with us or grab some papers and instructions to create your origami pieces at home. \nOne lucky Winter term NorQuest student who participates will win an origami kit! \n  \n
URL:https://www.sanqc.ca/event/apr17crafting/
LOCATION:Atrium (1-001)\, 10215 108 St NW\, Edmonton\, Alberta\, T5J 1L6\, Canada
CATEGORIES:Mental Health Events,Social Events
ATTACH;FMTTYPE=image/png:/wp-content/uploads/2023/03/Crafting-with-SANQC-Apr-17.png
END:VEVENT
END:VCALENDAR