BEGIN:VCALENDAR
VERSION:2.0
PRODID:-//SANQC - ECPv4.9.14//NONSGML v1.0//EN
CALSCALE:GREGORIAN
METHOD:PUBLISH
X-WR-CALNAME:SANQC
X-ORIGINAL-URL:https://www.sanqc.ca
X-WR-CALDESC:Events for SANQC
BEGIN:VTIMEZONE
TZID:America/Edmonton
BEGIN:DAYLIGHT
TZOFFSETFROM:-0700
TZOFFSETTO:-0600
TZNAME:MDT
DTSTART:20220313T090000
END:DAYLIGHT
BEGIN:STANDARD
TZOFFSETFROM:-0600
TZOFFSETTO:-0700
TZNAME:MST
DTSTART:20221106T080000
END:STANDARD
END:VTIMEZONE
BEGIN:VEVENT
DTSTART;VALUE=DATE:20220419
DTEND;VALUE=DATE:20220420
DTSTAMP:20260424T053218
CREATED:20220408T161124Z
LAST-MODIFIED:20220408T195338Z
UID:7506-1650326400-1650412799@www.sanqc.ca
SUMMARY:Trivia Time • Guess the Punch Line
DESCRIPTION:Let us help you lighten up your exam stress and join us for a fun Trivia time • Guess the Punch Line on Facebook & Instagram. We will give you the first line of the joke and all you need to do guess the punch line. You’ll also have a chance to let us know how funny you found the joke. \nWinter 2022 NorQuest students who participate have a chance to win a cool SANQC prize basket and a $50 gift card to “The Rec Room” for you to enjoy some arcade games! \n  \n
URL:https://www.sanqc.ca/event/apr19trivia/
ATTACH;FMTTYPE=image/png:/wp-content/uploads/2022/04/Trivia-Time-Punch-Line.png
END:VEVENT
END:VCALENDAR