BEGIN:VCALENDAR
VERSION:2.0
PRODID:-//SANQC - ECPv4.9.14//NONSGML v1.0//EN
CALSCALE:GREGORIAN
METHOD:PUBLISH
X-WR-CALNAME:SANQC
X-ORIGINAL-URL:https://www.sanqc.ca
X-WR-CALDESC:Events for SANQC
BEGIN:VTIMEZONE
TZID:America/Edmonton
BEGIN:DAYLIGHT
TZOFFSETFROM:-0700
TZOFFSETTO:-0600
TZNAME:MDT
DTSTART:20220313T090000
END:DAYLIGHT
BEGIN:STANDARD
TZOFFSETFROM:-0600
TZOFFSETTO:-0700
TZNAME:MST
DTSTART:20221106T080000
END:STANDARD
END:VTIMEZONE
BEGIN:VEVENT
DTSTART;TZID=America/Edmonton:20220426T140000
DTEND;TZID=America/Edmonton:20220426T160000
DTSTAMP:20260424T043823
CREATED:20220408T161628Z
LAST-MODIFIED:20220408T195345Z
UID:7509-1650981600-1650988800@www.sanqc.ca
SUMMARY:Codenames
DESCRIPTION:Meet new friends or bring your NorQuest friends with you for a fun afternoon playing Codenames with SANQC! No previous experience needed! \nHere’s a sneak peek on how to play: \nYou’ll play as a spymaster or an operative while your team tries to solve your clues before the other team solves theirs. It’s quick and easy to learn and great to challenge and connect the word to the clues that you will give or receive. See how clever you can be to get the win! \nTwo Winter 2022 NorQuest students who join will win a Codenames board game. \nJoin the fun on Blackboard here. \n  \n
URL:https://www.sanqc.ca/event/apr26codenames/
LOCATION:Blackboard
CATEGORIES:Social Events
ATTACH;FMTTYPE=image/png:/wp-content/uploads/2022/04/Code-Names-Apr-26.png
END:VEVENT
END:VCALENDAR