BEGIN:VCALENDAR
VERSION:2.0
PRODID:-//SANQC - ECPv4.9.14//NONSGML v1.0//EN
CALSCALE:GREGORIAN
METHOD:PUBLISH
X-WR-CALNAME:SANQC
X-ORIGINAL-URL:https://www.sanqc.ca
X-WR-CALDESC:Events for SANQC
BEGIN:VTIMEZONE
TZID:America/Edmonton
BEGIN:DAYLIGHT
TZOFFSETFROM:-0700
TZOFFSETTO:-0600
TZNAME:MDT
DTSTART:20230312T090000
END:DAYLIGHT
BEGIN:STANDARD
TZOFFSETFROM:-0600
TZOFFSETTO:-0700
TZNAME:MST
DTSTART:20231105T080000
END:STANDARD
END:VTIMEZONE
BEGIN:VEVENT
DTSTART;VALUE=DATE:20230426
DTEND;VALUE=DATE:20230427
DTSTAMP:20260424T011500
CREATED:20230321T193401Z
LAST-MODIFIED:20230411T143515Z
UID:8296-1682467200-1682553599@www.sanqc.ca
SUMMARY:Grab & Go Stress Free Zone
DESCRIPTION:Plan some relaxation time and stop by our Grab & Go Stress Free Zone on Wed\, Apr 26 in Imagine Hall starting at 10 am (while supplies last) to pick up a stress relief kit. \nEach kit has a variety of items to help you relax on the go\, at home or anywhere in between! \n  \n
URL:https://www.sanqc.ca/event/apr26sfz/
LOCATION:Imagine Hall\, 10215 108 St NW\, Edmonton\, AB\, T5J 1L6\, Canada
CATEGORIES:Mental Health Events
ATTACH;FMTTYPE=image/png:/wp-content/uploads/2023/03/Grab-Go-SFZ-1080-×-1080-px.png
END:VEVENT
END:VCALENDAR