BEGIN:VCALENDAR
VERSION:2.0
PRODID:-//SANQC - ECPv4.9.14//NONSGML v1.0//EN
CALSCALE:GREGORIAN
METHOD:PUBLISH
X-WR-CALNAME:SANQC
X-ORIGINAL-URL:https://www.sanqc.ca
X-WR-CALDESC:Events for SANQC
BEGIN:VTIMEZONE
TZID:America/Edmonton
BEGIN:DAYLIGHT
TZOFFSETFROM:-0700
TZOFFSETTO:-0600
TZNAME:MDT
DTSTART:20230312T090000
END:DAYLIGHT
BEGIN:STANDARD
TZOFFSETFROM:-0600
TZOFFSETTO:-0700
TZNAME:MST
DTSTART:20231105T080000
END:STANDARD
END:VTIMEZONE
BEGIN:VEVENT
DTSTART;TZID=America/Edmonton:20230815T110000
DTEND;TZID=America/Edmonton:20230815T140000
DTSTAMP:20260424T040650
CREATED:20230615T172459Z
LAST-MODIFIED:20230629T182052Z
UID:8435-1692097200-1692108000@www.sanqc.ca
SUMMARY:Games Café
DESCRIPTION:Feeling competitive? Bring your friends and classmates to play some board games and ping pong at our Games Café. Challenge your friends to see who’ll win bragging rights! \nSnacks and drinks provided while quantities last. \n  \n
URL:https://www.sanqc.ca/event/aug15gamescafe/
LOCATION:Atrium (1-001)\, 10215 108 St NW\, Edmonton\, Alberta\, T5J 1L6\, Canada
CATEGORIES:Social Events
ATTACH;FMTTYPE=image/png:/wp-content/uploads/2023/06/Aug15GamesCafe.png
END:VEVENT
END:VCALENDAR