BEGIN:VCALENDAR
VERSION:2.0
PRODID:-//SANQC - ECPv4.9.14//NONSGML v1.0//EN
CALSCALE:GREGORIAN
METHOD:PUBLISH
X-WR-CALNAME:SANQC
X-ORIGINAL-URL:https://www.sanqc.ca
X-WR-CALDESC:Events for SANQC
BEGIN:VTIMEZONE
TZID:America/Edmonton
BEGIN:DAYLIGHT
TZOFFSETFROM:-0700
TZOFFSETTO:-0600
TZNAME:MDT
DTSTART:20220313T090000
END:DAYLIGHT
BEGIN:STANDARD
TZOFFSETFROM:-0600
TZOFFSETTO:-0700
TZNAME:MST
DTSTART:20221106T080000
END:STANDARD
END:VTIMEZONE
BEGIN:VEVENT
DTSTART;TZID=America/Edmonton:20220816T110000
DTEND;TZID=America/Edmonton:20220816T140000
DTSTAMP:20260424T043945
CREATED:20220615T224057Z
LAST-MODIFIED:20220616T194716Z
UID:7688-1660647600-1660658400@www.sanqc.ca
SUMMARY:Games Café
DESCRIPTION:Feeling competitive? Bring your friends and classmates to play some board games and ping pong at our Games Café. We’ll also have snacks and juice for you to enjoy while you play. \nOne lucky Spring term NorQuest student who comes to play will win a $50 Amazon gift card! \n  \n
URL:https://www.sanqc.ca/event/aug16gamescafe/
LOCATION:SANQC Multi-Purpose Space (1-096)\, 10215 108 St NW\, Edmonton\, Alberta\, T5J 1L6\, Canada
CATEGORIES:Social Events
ATTACH;FMTTYPE=image/png:/wp-content/uploads/2022/06/GamesCafeAug16.png
END:VEVENT
END:VCALENDAR