BEGIN:VCALENDAR
VERSION:2.0
PRODID:-//SANQC - ECPv4.9.14//NONSGML v1.0//EN
CALSCALE:GREGORIAN
METHOD:PUBLISH
X-WR-CALNAME:SANQC
X-ORIGINAL-URL:https://www.sanqc.ca
X-WR-CALDESC:Events for SANQC
BEGIN:VTIMEZONE
TZID:America/Edmonton
BEGIN:DAYLIGHT
TZOFFSETFROM:-0700
TZOFFSETTO:-0600
TZNAME:MDT
DTSTART:20250309T090000
END:DAYLIGHT
BEGIN:STANDARD
TZOFFSETFROM:-0600
TZOFFSETTO:-0700
TZNAME:MST
DTSTART:20251102T080000
END:STANDARD
END:VTIMEZONE
BEGIN:VEVENT
DTSTART;TZID=America/Edmonton:20250826T090000
DTEND;TZID=America/Edmonton:20250826T150000
DTSTAMP:20260423T230938
CREATED:20250717T213435Z
LAST-MODIFIED:20250717T214441Z
UID:9703-1756198800-1756220400@www.sanqc.ca
SUMMARY:Free Store • Housewares
DESCRIPTION:Join your Students’ Association for our Houseware Free Store Event on Tue\, Aug 26\, from 9 am – 3 pm in the SANQC Multi-Purpose Space! \nLiving on your own for the first time or in need of some houseware items? This open\, drop-in event is a great opportunity for students to pick up some of those items. Everything available has been generously donated by the NorQuest community. \nWe’re here to support you while also promoting sustainability and community sharing. Stop by anytime during the event! \n  \n
URL:https://www.sanqc.ca/event/aug26freestore/
LOCATION:SANQC Multi-Purpose Space (1-096)\, 10215 108 St NW\, Edmonton\, Alberta\, T5J 1L6\, Canada
CATEGORIES:Mental Health Events
ATTACH;FMTTYPE=image/png:/wp-content/uploads/2025/07/Community-Corner-Career-Essentials-6.png
END:VEVENT
END:VCALENDAR