BEGIN:VCALENDAR
VERSION:2.0
PRODID:-//SANQC - ECPv4.9.14//NONSGML v1.0//EN
CALSCALE:GREGORIAN
METHOD:PUBLISH
X-WR-CALNAME:SANQC
X-ORIGINAL-URL:https://www.sanqc.ca
X-WR-CALDESC:Events for SANQC
BEGIN:VTIMEZONE
TZID:America/Edmonton
BEGIN:DAYLIGHT
TZOFFSETFROM:-0700
TZOFFSETTO:-0600
TZNAME:MDT
DTSTART:20180311T090000
END:DAYLIGHT
BEGIN:STANDARD
TZOFFSETFROM:-0600
TZOFFSETTO:-0700
TZNAME:MST
DTSTART:20181104T080000
END:STANDARD
END:VTIMEZONE
BEGIN:VEVENT
DTSTART;TZID=America/Edmonton:20181206T124500
DTEND;TZID=America/Edmonton:20181206T144500
DTSTAMP:20260424T003134
CREATED:20181128T180537Z
LAST-MODIFIED:20181205T191458Z
UID:3322-1544100300-1544107500@www.sanqc.ca
SUMMARY:Bunnies on the Balcony
DESCRIPTION:Need a break? The wonderful group from the Learner Centre will have some adorable bunnies for you to meet and cuddle with. \n
URL:https://www.sanqc.ca/event/bunnies-on-the-balcony/
LOCATION:Learner Centre\, 10215 108 Street NW\, Edmonton\, AB\, T5J 1L6\, Canada
CATEGORIES:NorQuest Event
ATTACH;FMTTYPE=image/jpeg:/wp-content/uploads/2018/11/BB.jpg
ORGANIZER;CN="NorQuest%20College%20Library":MAILTO:library@norquest.ca
END:VEVENT
END:VCALENDAR