BEGIN:VCALENDAR
VERSION:2.0
PRODID:-//SANQC - ECPv4.9.14//NONSGML v1.0//EN
CALSCALE:GREGORIAN
METHOD:PUBLISH
X-WR-CALNAME:SANQC
X-ORIGINAL-URL:https://www.sanqc.ca
X-WR-CALDESC:Events for SANQC
BEGIN:VTIMEZONE
TZID:America/Edmonton
BEGIN:DAYLIGHT
TZOFFSETFROM:-0700
TZOFFSETTO:-0600
TZNAME:MDT
DTSTART:20170312T090000
END:DAYLIGHT
BEGIN:STANDARD
TZOFFSETFROM:-0600
TZOFFSETTO:-0700
TZNAME:MST
DTSTART:20171105T080000
END:STANDARD
END:VTIMEZONE
BEGIN:VEVENT
DTSTART;TZID=America/Edmonton:20170925T120000
DTEND;TZID=America/Edmonton:20170925T140000
DTSTAMP:20260424T065722
CREATED:20170922T200228Z
LAST-MODIFIED:20170922T200228Z
UID:1215-1506340800-1506348000@www.sanqc.ca
SUMMARY:Candidate Meet & Greet
DESCRIPTION:Get ready to cast your vote in the Fall 2017 Students’ Council Elections! Voting opens on Sep 26. \nHave questions you want to ask the candidates before you vote? Drop in for a fun informal meet & greet with the candidates.   Find out why they are running and what they hope to do as a Students’ Council representative. \nSnacks and coffee provided. \n  \n
URL:https://www.sanqc.ca/event/candidate-meet-greet/
LOCATION:SANQC Multi-Purpose Space (1-096)\, 10215 108 St NW\, Edmonton\, Alberta\, T5J 1L6\, Canada
END:VEVENT
END:VCALENDAR