BEGIN:VCALENDAR
VERSION:2.0
PRODID:-//SANQC - ECPv4.9.14//NONSGML v1.0//EN
CALSCALE:GREGORIAN
METHOD:PUBLISH
X-WR-CALNAME:SANQC
X-ORIGINAL-URL:https://www.sanqc.ca
X-WR-CALDESC:Events for SANQC
BEGIN:VTIMEZONE
TZID:America/Edmonton
BEGIN:DAYLIGHT
TZOFFSETFROM:-0700
TZOFFSETTO:-0600
TZNAME:MDT
DTSTART:20190310T090000
END:DAYLIGHT
BEGIN:STANDARD
TZOFFSETFROM:-0600
TZOFFSETTO:-0700
TZNAME:MST
DTSTART:20191103T080000
END:STANDARD
END:VTIMEZONE
BEGIN:VEVENT
DTSTART;TZID=America/Edmonton:20191209T110000
DTEND;TZID=America/Edmonton:20191209T130000
DTSTAMP:20260424T061303
CREATED:20191119T173051Z
LAST-MODIFIED:20191127T163147Z
UID:4508-1575889200-1575896400@www.sanqc.ca
SUMMARY:Chair Yoga & Meditation
DESCRIPTION:Join the Centre for Growth and Harmony for some relaxation! Melt that test stress away. \n11 – 11:45 am: Chair Yoga \n12 – 12:45 pm: Meditation \n
URL:https://www.sanqc.ca/event/chair-yoga/
LOCATION:SANQC Multi-Purpose Space (1-096)\, 10215 108 St NW\, Edmonton\, Alberta\, T5J 1L6\, Canada
CATEGORIES:NorQuest Event
ATTACH;FMTTYPE=image/jpeg:/wp-content/uploads/2019/11/ChairYoga.jpg
END:VEVENT
END:VCALENDAR