BEGIN:VCALENDAR
VERSION:2.0
PRODID:-//SANQC - ECPv4.9.14//NONSGML v1.0//EN
CALSCALE:GREGORIAN
METHOD:PUBLISH
X-WR-CALNAME:SANQC
X-ORIGINAL-URL:https://www.sanqc.ca
X-WR-CALDESC:Events for SANQC
BEGIN:VTIMEZONE
TZID:America/Edmonton
BEGIN:DAYLIGHT
TZOFFSETFROM:-0700
TZOFFSETTO:-0600
TZNAME:MDT
DTSTART:20200308T090000
END:DAYLIGHT
BEGIN:STANDARD
TZOFFSETFROM:-0600
TZOFFSETTO:-0700
TZNAME:MST
DTSTART:20201101T080000
END:STANDARD
END:VTIMEZONE
BEGIN:VEVENT
DTSTART;TZID=America/Edmonton:20200611T120000
DTEND;TZID=America/Edmonton:20200611T123000
DTSTAMP:20260424T085532
CREATED:20200522T011018Z
LAST-MODIFIED:20200611T160217Z
UID:5129-1591876800-1591878600@www.sanqc.ca
SUMMARY:Chair Zumba
DESCRIPTION:It’s time for some more Chair Zumba! Enjoy a break from your classes and studies by joining our 30 minute session on Zoom\, led by Sherry Matter\, a licensed Zumba instructor. \nCurrent Spring/Summer NorQuest students who participate will be entered to win a $25 gift card. \nIf you have filled out the waiver for a previous session\, you don’t need to fill it out again\, the Zoom link will be automatically sent to you. \nRegistration closed at 10 am\, 2 hours prior to the event. \n
URL:https://www.sanqc.ca/event/chair-zumba3/
CATEGORIES:Mental Health Events
ATTACH;FMTTYPE=image/jpeg:/wp-content/uploads/2020/05/ChairZumba.jpg
END:VEVENT
END:VCALENDAR