BEGIN:VCALENDAR
VERSION:2.0
PRODID:-//SANQC - ECPv4.9.14//NONSGML v1.0//EN
CALSCALE:GREGORIAN
METHOD:PUBLISH
X-WR-CALNAME:SANQC
X-ORIGINAL-URL:https://www.sanqc.ca
X-WR-CALDESC:Events for SANQC
BEGIN:VTIMEZONE
TZID:America/Edmonton
BEGIN:DAYLIGHT
TZOFFSETFROM:-0700
TZOFFSETTO:-0600
TZNAME:MDT
DTSTART:20210314T090000
END:DAYLIGHT
BEGIN:STANDARD
TZOFFSETFROM:-0600
TZOFFSETTO:-0700
TZNAME:MST
DTSTART:20211107T080000
END:STANDARD
END:VTIMEZONE
BEGIN:VEVENT
DTSTART;TZID=America/Edmonton:20211202T130000
DTEND;TZID=America/Edmonton:20211202T150000
DTSTAMP:20260424T042526
CREATED:20211116T173052Z
LAST-MODIFIED:20211129T180528Z
UID:6798-1638450000-1638457200@www.sanqc.ca
SUMMARY:Crafting with SANQC • Holiday Decor
DESCRIPTION:It’s time to get decorating for the holidays! Make your space feel festive with these crafts you can create with these household items. \nHave these materials ready to craft along with us! \nPaper Christmas Tree \n\nCraft paper (preferably green)\nScissors\n\nPaper Holiday Wreath \n\nCraft paper (preferably 10 green & 1 red) or newspaper\nCardboard\nTwine and/or yarn\nPen\nScissors\nTape\nGlue\n\nTwo lucky fall term NorQuest students who participate will win a $25 gift card during the event. \nJoin the crafting fun on Blackboard here. \n
URL:https://www.sanqc.ca/event/crafting-with-sanqc-holiday-decor/
LOCATION:Blackboard
CATEGORIES:Social Events
ATTACH;FMTTYPE=image/png:/wp-content/uploads/2021/11/Dec2Crafting.png
END:VEVENT
END:VCALENDAR