BEGIN:VCALENDAR
VERSION:2.0
PRODID:-//SANQC - ECPv4.9.14//NONSGML v1.0//EN
CALSCALE:GREGORIAN
METHOD:PUBLISH
X-WR-CALNAME:SANQC
X-ORIGINAL-URL:https://www.sanqc.ca
X-WR-CALDESC:Events for SANQC
BEGIN:VTIMEZONE
TZID:America/Edmonton
BEGIN:DAYLIGHT
TZOFFSETFROM:-0700
TZOFFSETTO:-0600
TZNAME:MDT
DTSTART:20240310T090000
END:DAYLIGHT
BEGIN:STANDARD
TZOFFSETFROM:-0600
TZOFFSETTO:-0700
TZNAME:MST
DTSTART:20241103T080000
END:STANDARD
END:VTIMEZONE
BEGIN:VEVENT
DTSTART;TZID=America/Edmonton:20240417T110000
DTEND;TZID=America/Edmonton:20240417T140000
DTSTAMP:20260423T224426
CREATED:20231204T232128Z
LAST-MODIFIED:20231218T202753Z
UID:8853-1713351600-1713362400@www.sanqc.ca
SUMMARY:Crafting with SANQC
DESCRIPTION:Join your Students’ Association for some origami fun! We’ll provide various kinds of papers as well as tutorials on how to make all sorts of different creations. Origami can help exercise your brain\, enhance your hand-eye coordination\, support your mental concentration and all while you relax and take a break from your studies! \nYou can drop by and craft along with us or grab some papers and instructions to create your origami pieces at home. \nOne lucky winter term NorQuest student who participates will win an origami kit! \n  \n
URL:https://www.sanqc.ca/event/crafting-with-sanqc/
LOCATION:Atrium (1-001)\, 10215 108 St NW\, Edmonton\, Alberta\, T5J 1L6\, Canada
CATEGORIES:Social Events
ATTACH;FMTTYPE=image/png:/wp-content/uploads/2023/12/Crafting-with-SANQC.png
END:VEVENT
END:VCALENDAR