BEGIN:VCALENDAR
VERSION:2.0
PRODID:-//SANQC - ECPv4.9.14//NONSGML v1.0//EN
CALSCALE:GREGORIAN
METHOD:PUBLISH
X-WR-CALNAME:SANQC
X-ORIGINAL-URL:https://www.sanqc.ca
X-WR-CALDESC:Events for SANQC
BEGIN:VTIMEZONE
TZID:America/Edmonton
BEGIN:DAYLIGHT
TZOFFSETFROM:-0700
TZOFFSETTO:-0600
TZNAME:MDT
DTSTART:20200308T090000
END:DAYLIGHT
BEGIN:STANDARD
TZOFFSETFROM:-0600
TZOFFSETTO:-0700
TZNAME:MST
DTSTART:20201101T080000
END:STANDARD
END:VTIMEZONE
BEGIN:VEVENT
DTSTART;TZID=America/Edmonton:20200528T133000
DTEND;TZID=America/Edmonton:20200528T143000
DTSTAMP:20260424T102238
CREATED:20200513T194056Z
LAST-MODIFIED:20200525T232325Z
UID:5116-1590672600-1590676200@www.sanqc.ca
SUMMARY:Crafting with SANQC • Origami
DESCRIPTION:Join us for a fun session doing some origami! All you’ll need is some paper and a pair of scissors to make a variety of creations. \nFind us on blackboard here. \n  \n
URL:https://www.sanqc.ca/event/craftingorigami/
LOCATION:Blackboard
CATEGORIES:Social Events
ATTACH;FMTTYPE=image/jpeg:/wp-content/uploads/2020/05/Crafting.jpeg
END:VEVENT
END:VCALENDAR