BEGIN:VCALENDAR
VERSION:2.0
PRODID:-//SANQC - ECPv4.9.14//NONSGML v1.0//EN
CALSCALE:GREGORIAN
METHOD:PUBLISH
X-WR-CALNAME:SANQC
X-ORIGINAL-URL:https://www.sanqc.ca
X-WR-CALDESC:Events for SANQC
BEGIN:VTIMEZONE
TZID:America/Edmonton
BEGIN:DAYLIGHT
TZOFFSETFROM:-0700
TZOFFSETTO:-0600
TZNAME:MDT
DTSTART:20210314T090000
END:DAYLIGHT
BEGIN:STANDARD
TZOFFSETFROM:-0600
TZOFFSETTO:-0700
TZNAME:MST
DTSTART:20211107T080000
END:STANDARD
END:VTIMEZONE
BEGIN:VEVENT
DTSTART;TZID=America/Edmonton:20210316T140000
DTEND;TZID=America/Edmonton:20210316T160000
DTSTAMP:20260424T025440
CREATED:20210225T222035Z
LAST-MODIFIED:20210302T162940Z
UID:6101-1615903200-1615910400@www.sanqc.ca
SUMMARY:Crafting with SANQC • Pamper Yourself
DESCRIPTION:Need to relax and rejuvenate? We’ve got some DIY items to help you pamper yourself or to gift to somebody you know who could use some help de-stressing. \nWhether it’s bath bombs to enjoy a luxurious bath or shower melts to turn your shower experience into an aromatherapy session\, we’ve got something for you. We’ll also be making Cloud Dough which you can mould\, shape\, squeeze and sculpt into different shapes while you relax and enjoy it’s silky smooth texture and let it moisturize your hands at the same time. \nHere’s what you will need to create these with us: \n\nBath Bombs: Baking soda\, corn starch\, epsom salt\, citric acid\, vegetable oil (or any similar oil you have at home)\, food coloring\, your favorite essential oils\, water\, whisk\, mixing bowl and mold (small bowl\, muffin tray or cookie cutter)\nShower Melts: Baking soda\, corn starch\, your favorite essential oils\, ice cube tray\, food color\, empty spray bottle\, whisk & mixing bowl\, citric acid (optional)\nCloud Dough: corn starch\, body lotion or hair conditioner\, your favorite essential oils (optional)\n\nAll winter term NorQuest students that participate will be entered to win a stress relief prize basket! \nJoin in the fun from 2 – 4 pm on Mar 16 on Blackboard here. \n
URL:https://www.sanqc.ca/event/craftingpamper/
LOCATION:Blackboard
CATEGORIES:Mental Health Events,Social Events
ATTACH;FMTTYPE=image/jpeg:/wp-content/uploads/2021/02/CraftingPamper-e1614702562113.jpeg
END:VEVENT
END:VCALENDAR