BEGIN:VCALENDAR
VERSION:2.0
PRODID:-//SANQC - ECPv4.9.14//NONSGML v1.0//EN
CALSCALE:GREGORIAN
METHOD:PUBLISH
X-WR-CALNAME:SANQC
X-ORIGINAL-URL:https://www.sanqc.ca
X-WR-CALDESC:Events for SANQC
BEGIN:VTIMEZONE
TZID:America/Edmonton
BEGIN:DAYLIGHT
TZOFFSETFROM:-0700
TZOFFSETTO:-0600
TZNAME:MDT
DTSTART:20210314T090000
END:DAYLIGHT
BEGIN:STANDARD
TZOFFSETFROM:-0600
TZOFFSETTO:-0700
TZNAME:MST
DTSTART:20211107T080000
END:STANDARD
END:VTIMEZONE
BEGIN:VEVENT
DTSTART;TZID=America/Edmonton:20210622T140000
DTEND;TZID=America/Edmonton:20210622T160000
DTSTAMP:20260423T212656
CREATED:20210602T190234Z
LAST-MODIFIED:20210603T182202Z
UID:6407-1624370400-1624377600@www.sanqc.ca
SUMMARY:Crafting with Happy • Paper Blooms
DESCRIPTION:It’s time to enjoy the nice weather and appreciate pretty flowers! Join Happy from 2-4 pm on June 22 and learn how to make large roses\, lavender flowers and rolled roses that you can use as decorations around your house! \nHere’s what you’ll need: \nLarge roses: Color paper sheets (at least 8-9 of same color)\, scissors\, pencil and hot glue gun or glue stick. You can also use magazine paper for rustic looking flowers. \nLavender flowers: Color paper (Green & Color of your choice) scissors\, glue stick\, ruler and pencil. \nRolled roses: Paper of your choice (color paper\, magazine paper or newspaper) scissors and hot glue gun or glue. \nAll current term NorQuest students that participate will have a chance to win 1 of 2 crafting baskets to help you continue your creative journey. \nJoin in the painting fun on Blackboard here. \n
URL:https://www.sanqc.ca/event/craftingpaperblooms/
LOCATION:Blackboard
CATEGORIES:Social Events
ATTACH;FMTTYPE=image/png:/wp-content/uploads/2021/06/Jun22CraftingBlooms.png
END:VEVENT
END:VCALENDAR