BEGIN:VCALENDAR
VERSION:2.0
PRODID:-//SANQC - ECPv4.9.14//NONSGML v1.0//EN
CALSCALE:GREGORIAN
METHOD:PUBLISH
X-WR-CALNAME:SANQC
X-ORIGINAL-URL:https://www.sanqc.ca
X-WR-CALDESC:Events for SANQC
BEGIN:VTIMEZONE
TZID:America/Edmonton
BEGIN:DAYLIGHT
TZOFFSETFROM:-0700
TZOFFSETTO:-0600
TZNAME:MDT
DTSTART:20240310T090000
END:DAYLIGHT
BEGIN:STANDARD
TZOFFSETFROM:-0600
TZOFFSETTO:-0700
TZNAME:MST
DTSTART:20241103T080000
END:STANDARD
END:VTIMEZONE
BEGIN:VEVENT
DTSTART;VALUE=DATE:20241202
DTEND;VALUE=DATE:20241203
DTSTAMP:20260423T235058
CREATED:20240821T203527Z
LAST-MODIFIED:20241002T194710Z
UID:9212-1733097600-1733183999@www.sanqc.ca
SUMMARY:Grab & Go Stress Free Zone
DESCRIPTION:Plan some relaxation time and stop by our Grab & Go Stress Free Zone in Imagine Hall starting at 10 am (while supplies last) to pick up a stress relief activity kit. \nEach kit has a variety of items to help you relax on the go\, at home or anywhere in between! \n  \n
URL:https://www.sanqc.ca/event/dec2sfz/
LOCATION:Imagine Hall\, 10215 108 St NW\, Edmonton\, AB\, T5J 1L6\, Canada
CATEGORIES:Mental Health Events
ATTACH;FMTTYPE=image/png:/wp-content/uploads/2024/08/Grab-Go-SFZ-1080-×-1080-px.png
END:VEVENT
END:VCALENDAR