BEGIN:VCALENDAR
VERSION:2.0
PRODID:-//SANQC - ECPv4.9.14//NONSGML v1.0//EN
CALSCALE:GREGORIAN
METHOD:PUBLISH
X-WR-CALNAME:SANQC
X-ORIGINAL-URL:https://www.sanqc.ca
X-WR-CALDESC:Events for SANQC
BEGIN:VTIMEZONE
TZID:America/Edmonton
BEGIN:DAYLIGHT
TZOFFSETFROM:-0700
TZOFFSETTO:-0600
TZNAME:MDT
DTSTART:20170312T090000
END:DAYLIGHT
BEGIN:STANDARD
TZOFFSETFROM:-0600
TZOFFSETTO:-0700
TZNAME:MST
DTSTART:20171105T080000
END:STANDARD
END:VTIMEZONE
BEGIN:VEVENT
DTSTART;TZID=America/Edmonton:20171019T160000
DTEND;TZID=America/Edmonton:20171019T190000
DTSTAMP:20260423T212919
CREATED:20171003T161848Z
LAST-MODIFIED:20171003T161848Z
UID:1273-1508428800-1508439600@www.sanqc.ca
SUMMARY:Diwali
DESCRIPTION:The Student Alliance of Punjab and SANQC want to light up your life with the Indian festival called Diwali! Enjoy food\, music and dancing from this culture with a special bhangra performance. You can learn about and try a traditional art called rangoli or even get a mehndi (henna) tattoo. This event is open to everyone. \n
URL:https://www.sanqc.ca/event/diwali/
LOCATION:Atrium (1-001)\, 10215 108 St NW\, Edmonton\, Alberta\, T5J 1L6\, Canada
CATEGORIES:Student Club Event
ATTACH;FMTTYPE=image/jpeg:/wp-content/uploads/2017/10/SANQC_Diwali_100217_101917.jpg
END:VEVENT
END:VCALENDAR