BEGIN:VCALENDAR
VERSION:2.0
PRODID:-//SANQC - ECPv4.9.14//NONSGML v1.0//EN
CALSCALE:GREGORIAN
METHOD:PUBLISH
X-WR-CALNAME:SANQC
X-ORIGINAL-URL:https://www.sanqc.ca
X-WR-CALDESC:Events for SANQC
BEGIN:VTIMEZONE
TZID:America/Edmonton
BEGIN:DAYLIGHT
TZOFFSETFROM:-0700
TZOFFSETTO:-0600
TZNAME:MDT
DTSTART:20190310T090000
END:DAYLIGHT
BEGIN:STANDARD
TZOFFSETFROM:-0600
TZOFFSETTO:-0700
TZNAME:MST
DTSTART:20191103T080000
END:STANDARD
END:VTIMEZONE
BEGIN:VEVENT
DTSTART;TZID=America/Edmonton:20190417T100000
DTEND;TZID=America/Edmonton:20190417T150000
DTSTAMP:20260423T182702
CREATED:20190319T212452Z
LAST-MODIFIED:20190417T155213Z
UID:3768-1555495200-1555513200@www.sanqc.ca
SUMMARY:Easter Crafting
DESCRIPTION:Join us to make some fun and creative Easter crafts that you can take home with you. \nWe’ll have crafts\, a selfie station and giveaways for you to enjoy along with a great prize basket you can enter to win! \n
URL:https://www.sanqc.ca/event/easter-crafting/
LOCATION:SANQC Multi-Purpose Space (1-096)\, 10215 108 St NW\, Edmonton\, Alberta\, T5J 1L6\, Canada
CATEGORIES:Mental Health Events
ATTACH;FMTTYPE=image/jpeg:/wp-content/uploads/2019/03/IMG_20190410_163736.jpg
END:VEVENT
END:VCALENDAR