BEGIN:VCALENDAR
VERSION:2.0
PRODID:-//SANQC - ECPv4.9.14//NONSGML v1.0//EN
CALSCALE:GREGORIAN
METHOD:PUBLISH
X-WR-CALNAME:SANQC
X-ORIGINAL-URL:https://www.sanqc.ca
X-WR-CALDESC:Events for SANQC
BEGIN:VTIMEZONE
TZID:America/Edmonton
BEGIN:DAYLIGHT
TZOFFSETFROM:-0700
TZOFFSETTO:-0600
TZNAME:MDT
DTSTART:20220313T090000
END:DAYLIGHT
BEGIN:STANDARD
TZOFFSETFROM:-0600
TZOFFSETTO:-0700
TZNAME:MST
DTSTART:20221106T080000
END:STANDARD
END:VTIMEZONE
BEGIN:VEVENT
DTSTART;TZID=America/Edmonton:20220912T103000
DTEND;TZID=America/Edmonton:20220912T133000
DTSTAMP:20260424T015242
CREATED:20220826T185640Z
LAST-MODIFIED:20220826T185700Z
UID:7752-1662978600-1662989400@www.sanqc.ca
SUMMARY:Week of Welcome • Students' Council Fest
DESCRIPTION:Your Students’ Council is kicking off Week of Welcome and they want to connect with YOU! \nJoin them for some yummy cupcakes and refreshing drinks\, play a game of prize pong\, get a FREE student agenda\, spin our giving wheel to get some fun SANQC swag\, and have loads of FUN! \nDrop by and meet your Students’ Council\, get to know about who your Students’ Association is\, what we do and how we are here for you. \nBe one of the first 150 students to join us and you’ll also get a fun fiesta welcome kit! First come\, first served\, while supplies last. \n  \n
URL:https://www.sanqc.ca/event/fall22wowscfest/
LOCATION:Atrium (1-001)\, 10215 108 St NW\, Edmonton\, Alberta\, T5J 1L6\, Canada
CATEGORIES:Social Events,Students' Council
ATTACH;FMTTYPE=image/png:/wp-content/uploads/2022/08/WOW-SC-Fest.png
END:VEVENT
END:VCALENDAR