BEGIN:VCALENDAR
VERSION:2.0
PRODID:-//SANQC - ECPv4.9.14//NONSGML v1.0//EN
CALSCALE:GREGORIAN
METHOD:PUBLISH
X-WR-CALNAME:SANQC
X-ORIGINAL-URL:https://www.sanqc.ca
X-WR-CALDESC:Events for SANQC
BEGIN:VTIMEZONE
TZID:America/Edmonton
BEGIN:DAYLIGHT
TZOFFSETFROM:-0700
TZOFFSETTO:-0600
TZNAME:MDT
DTSTART:20220313T090000
END:DAYLIGHT
BEGIN:STANDARD
TZOFFSETFROM:-0600
TZOFFSETTO:-0700
TZNAME:MST
DTSTART:20221106T080000
END:STANDARD
END:VTIMEZONE
BEGIN:VEVENT
DTSTART;VALUE=DATE:20220912
DTEND;VALUE=DATE:20220917
DTSTAMP:20260424T031605
CREATED:20220825T182113Z
LAST-MODIFIED:20220830T144006Z
UID:7748-1662940800-1663372799@www.sanqc.ca
SUMMARY:Week of Welcome • Smudge at the Indigenous Student Centre
DESCRIPTION:Drop in for some grounding throughout the week at the Indigenous Student Centre. They will have sage burning and an Indigenous Meditation Album playing during the drop in times. \nOpen to all students with no prior knowledge of smudging required. Please note there will not be any supervisor or direction provided during the event. \nDrop in times: \nMon\, Sep 12 – Fri\, Sep 15 from 9 – 9:30 am and 3:30 – 4 pm \n  \n
URL:https://www.sanqc.ca/event/fall22wowsmudging/
LOCATION:Miyo-Pimâtisiwin Centre\, 1-151\, 10215 108 St NW\, Edmonton\, AB\, T5J 1L6\, Canada
CATEGORIES:Mental Health Events,NorQuest Event,Social Events
END:VEVENT
END:VCALENDAR