BEGIN:VCALENDAR
VERSION:2.0
PRODID:-//SANQC - ECPv4.9.14//NONSGML v1.0//EN
CALSCALE:GREGORIAN
METHOD:PUBLISH
X-WR-CALNAME:SANQC
X-ORIGINAL-URL:https://www.sanqc.ca
X-WR-CALDESC:Events for SANQC
BEGIN:VTIMEZONE
TZID:America/Edmonton
BEGIN:DAYLIGHT
TZOFFSETFROM:-0700
TZOFFSETTO:-0600
TZNAME:MDT
DTSTART:20220313T090000
END:DAYLIGHT
BEGIN:STANDARD
TZOFFSETFROM:-0600
TZOFFSETTO:-0700
TZNAME:MST
DTSTART:20221106T080000
END:STANDARD
END:VTIMEZONE
BEGIN:VEVENT
DTSTART;TZID=America/Edmonton:20220914T100000
DTEND;TZID=America/Edmonton:20220914T140000
DTSTAMP:20260424T053136
CREATED:20220825T175730Z
LAST-MODIFIED:20220826T184936Z
UID:7738-1663149600-1663164000@www.sanqc.ca
SUMMARY:Week of Welcome • Student Services Information Fair
DESCRIPTION:The Student Services Information Fair is a great way to introduce new and ongoing students to the services available to support them on their path to success. \nA variety of areas will be present and available to answer questions or provide information on the supports they offer. \nJoin them for some free snacks and enter to win prizes in their raffle! \n  \n
URL:https://www.sanqc.ca/event/fall22wowssif/
LOCATION:Atrium (1-001)\, 10215 108 St NW\, Edmonton\, Alberta\, T5J 1L6\, Canada
CATEGORIES:NorQuest Event
ATTACH;FMTTYPE=image/jpeg:/wp-content/uploads/2022/08/student-services-fair.jpg
END:VEVENT
END:VCALENDAR