BEGIN:VCALENDAR
VERSION:2.0
PRODID:-//SANQC - ECPv4.9.14//NONSGML v1.0//EN
CALSCALE:GREGORIAN
METHOD:PUBLISH
X-WR-CALNAME:SANQC
X-ORIGINAL-URL:https://www.sanqc.ca
X-WR-CALDESC:Events for SANQC
BEGIN:VTIMEZONE
TZID:America/Edmonton
BEGIN:DAYLIGHT
TZOFFSETFROM:-0700
TZOFFSETTO:-0600
TZNAME:MDT
DTSTART:20220313T090000
END:DAYLIGHT
BEGIN:STANDARD
TZOFFSETFROM:-0600
TZOFFSETTO:-0700
TZNAME:MST
DTSTART:20221106T080000
END:STANDARD
END:VTIMEZONE
BEGIN:VEVENT
DTSTART;TZID=America/Edmonton:20220914T120000
DTEND;TZID=America/Edmonton:20220914T130000
DTSTAMP:20260424T042224
CREATED:20220825T180642Z
LAST-MODIFIED:20220826T184940Z
UID:7746-1663156800-1663160400@www.sanqc.ca
SUMMARY:Week of Welcome • Wellness Wednesday
DESCRIPTION:Join the Centre for Growth and Harmony for some mindful meditation as they launch their Wellness Wednesday Fall series! The Wellness Wednesdays series is made up of open virtual events for students to connect and learn about all things wellness related\, and to find out about services offered by the Wellness Team. \nOn Wed\, Sep 14\, you’ll have the opportunity to meet other NorQuest students\, do a quick ‘pulse check’ to see how you’re all feeling\, meet a member of the Wellness Team\, and then dive in to a 30-minute guided meditation practice. No experience is needed\, simply wear something comfortable and ensure you’re in a safe space where you can sit or lay during the practice. Attendees are welcome to turn off their cameras during the meditation if that feels more comfortable. \nEach session following this\, they’ll explore a new topic such as journaling\, fitness\, nutrition and more as a group. You’ll discuss ways in which you can schedule time into your week to practice simple self-care and share stories of success with each other. \nNo registration needed\, simply join the fun on Blackboard here at 12 noon on Wed\, Sep 14! \n  \n
URL:https://www.sanqc.ca/event/fall22wowwellness/
LOCATION:Blackboard
CATEGORIES:Mental Health Events,NorQuest Event
ATTACH;FMTTYPE=image/jpeg:/wp-content/uploads/2022/05/photo-1592895792095-85fa785192a9.jpg
END:VEVENT
END:VCALENDAR