BEGIN:VCALENDAR
VERSION:2.0
PRODID:-//SANQC - ECPv4.9.14//NONSGML v1.0//EN
CALSCALE:GREGORIAN
METHOD:PUBLISH
X-WR-CALNAME:SANQC
X-ORIGINAL-URL:https://www.sanqc.ca
X-WR-CALDESC:Events for SANQC
BEGIN:VTIMEZONE
TZID:America/Edmonton
BEGIN:DAYLIGHT
TZOFFSETFROM:-0700
TZOFFSETTO:-0600
TZNAME:MDT
DTSTART:20230312T090000
END:DAYLIGHT
BEGIN:STANDARD
TZOFFSETFROM:-0600
TZOFFSETTO:-0700
TZNAME:MST
DTSTART:20231105T080000
END:STANDARD
END:VTIMEZONE
BEGIN:VEVENT
DTSTART;TZID=America/Edmonton:20230913T150000
DTEND;TZID=America/Edmonton:20230913T210000
DTSTAMP:20260424T045742
CREATED:20230828T202335Z
LAST-MODIFIED:20230905T190457Z
UID:8527-1694617200-1694638800@www.sanqc.ca
SUMMARY:Week of Welcome • Esports Game Day
DESCRIPTION:Come watch\, learn\, and play during the NorQuest Esports Game Day on Wed\, Sep 13 from 3 – 9 pm at the Innovation Studio on the 5th floor of the Civic Employee Legacy Tower (CELT). \nKick it in FIFA on their XBOX’s\, play a round of Smash Brothers\, or enjoy the competitive world of Valorant on one of the gaming desktops. \nAll are welcome to come and play for free! \n  \n
URL:https://www.sanqc.ca/event/fall23esports/
CATEGORIES:NorQuest Event
ATTACH;FMTTYPE=image/jpeg:/wp-content/uploads/2023/08/Portrait-Drop-In-Ad-scaled.jpg
END:VEVENT
END:VCALENDAR