BEGIN:VCALENDAR
VERSION:2.0
PRODID:-//SANQC - ECPv4.9.14//NONSGML v1.0//EN
CALSCALE:GREGORIAN
METHOD:PUBLISH
X-WR-CALNAME:SANQC
X-ORIGINAL-URL:https://www.sanqc.ca
X-WR-CALDESC:Events for SANQC
BEGIN:VTIMEZONE
TZID:America/Edmonton
BEGIN:DAYLIGHT
TZOFFSETFROM:-0700
TZOFFSETTO:-0600
TZNAME:MDT
DTSTART:20230312T090000
END:DAYLIGHT
BEGIN:STANDARD
TZOFFSETFROM:-0600
TZOFFSETTO:-0700
TZNAME:MST
DTSTART:20231105T080000
END:STANDARD
END:VTIMEZONE
BEGIN:VEVENT
DTSTART;TZID=America/Edmonton:20230914T110000
DTEND;TZID=America/Edmonton:20230914T130000
DTSTAMP:20260424T043708
CREATED:20230828T202313Z
LAST-MODIFIED:20230829T220632Z
UID:8525-1694689200-1694696400@www.sanqc.ca
SUMMARY:Week of Welcome • Take a Break at the Learner Centre
DESCRIPTION:Come and unwind with the Learner Centre and Wellness teams! Take a break out of your day and play some games with friends\, and meet some good boys and girls from CAAWLS. There will be 2 four-legged friends (wellness dogs) on-hand for pets and snuggles to help you bust some stress and get a hit of dopamine to stave off the afternoon slump.\n \nPlease remember that food is not allowed in the Learner Centre. \n  \n
URL:https://www.sanqc.ca/event/fall23learnercentre/
LOCATION:Learner Centre\, 10215 108 Street NW\, Edmonton\, AB\, T5J 1L6\, Canada
CATEGORIES:NorQuest Event
ATTACH;FMTTYPE=image/png:/wp-content/uploads/2023/08/WOW-sept-2023.png
ORGANIZER;CN="NorQuest%20College%20Library":MAILTO:library@norquest.ca
END:VEVENT
END:VCALENDAR