BEGIN:VCALENDAR
VERSION:2.0
PRODID:-//SANQC - ECPv4.9.14//NONSGML v1.0//EN
CALSCALE:GREGORIAN
METHOD:PUBLISH
X-WR-CALNAME:SANQC
X-ORIGINAL-URL:https://www.sanqc.ca
X-WR-CALDESC:Events for SANQC
BEGIN:VTIMEZONE
TZID:America/Edmonton
BEGIN:DAYLIGHT
TZOFFSETFROM:-0700
TZOFFSETTO:-0600
TZNAME:MDT
DTSTART:20240310T090000
END:DAYLIGHT
BEGIN:STANDARD
TZOFFSETFROM:-0600
TZOFFSETTO:-0700
TZNAME:MST
DTSTART:20241103T080000
END:STANDARD
END:VTIMEZONE
BEGIN:VEVENT
DTSTART;TZID=America/Edmonton:20240916T130000
DTEND;TZID=America/Edmonton:20240916T153000
DTSTAMP:20260424T005251
CREATED:20240910T201702Z
LAST-MODIFIED:20240910T215944Z
UID:9328-1726491600-1726500600@www.sanqc.ca
SUMMARY:Week of Welcome • SANQC Student Space Grand Opening
DESCRIPTION:Join your Students’ Association to celebrate our Grand Opening! Visit us from 1 – 3:30 pm on Mon\, Sep 16 for a fun and treat filled tour of our space\, grab a cupcake and some pizza and there’s rumor that you might get to meet our mascot\, NOVA! \nAs much as we’ll be celebrating the space during this event\, we also want to showcase the new student space we added with our recent space expansion. Open whenever our office is\, it’s for students to come by and enjoy some board games\, play cards\, catch up on some homework or just relax. Students will help shape how this space is used and we can’t wait for you to see it! \n  \n
URL:https://www.sanqc.ca/event/fall24grandopening/
LOCATION:SANQC Office (1-114)\, 10215 108 St NW\, Edmonton\, Alberta\, Canada
CATEGORIES:Social Events
ATTACH;FMTTYPE=image/png:/wp-content/uploads/2024/09/Grand-opening.png
END:VEVENT
END:VCALENDAR