BEGIN:VCALENDAR
VERSION:2.0
PRODID:-//SANQC - ECPv4.9.14//NONSGML v1.0//EN
CALSCALE:GREGORIAN
METHOD:PUBLISH
X-WR-CALNAME:SANQC
X-ORIGINAL-URL:https://www.sanqc.ca
X-WR-CALDESC:Events for SANQC
BEGIN:VTIMEZONE
TZID:America/Edmonton
BEGIN:DAYLIGHT
TZOFFSETFROM:-0700
TZOFFSETTO:-0600
TZNAME:MDT
DTSTART:20240310T090000
END:DAYLIGHT
BEGIN:STANDARD
TZOFFSETFROM:-0600
TZOFFSETTO:-0700
TZNAME:MST
DTSTART:20241103T080000
END:STANDARD
END:VTIMEZONE
BEGIN:VEVENT
DTSTART;TZID=America/Edmonton:20240919T110000
DTEND;TZID=America/Edmonton:20240919T130000
DTSTAMP:20260424T033027
CREATED:20240828T174656Z
LAST-MODIFIED:20240903T165038Z
UID:9272-1726743600-1726750800@www.sanqc.ca
SUMMARY:Week of Welcome • International Photo Booth
DESCRIPTION:Join International  for a fun time at their Photo Booth during Week of Welcome! \nGrab your friends and strike a pose with our fun props. Tag them on Instagram for a chance to win a Tim Hortons gift card or swag items! \nDon’t miss out on capturing memorable moments! \n  \n
URL:https://www.sanqc.ca/event/fall24international/
LOCATION:Atrium (1-001)\, 10215 108 St NW\, Edmonton\, Alberta\, T5J 1L6\, Canada
CATEGORIES:NorQuest Event
ATTACH;FMTTYPE=image/jpeg:/wp-content/uploads/2024/08/International.jpg
END:VEVENT
END:VCALENDAR