BEGIN:VCALENDAR
VERSION:2.0
PRODID:-//SANQC - ECPv4.9.14//NONSGML v1.0//EN
CALSCALE:GREGORIAN
METHOD:PUBLISH
X-WR-CALNAME:SANQC
X-ORIGINAL-URL:https://www.sanqc.ca
X-WR-CALDESC:Events for SANQC
BEGIN:VTIMEZONE
TZID:America/Edmonton
BEGIN:DAYLIGHT
TZOFFSETFROM:-0700
TZOFFSETTO:-0600
TZNAME:MDT
DTSTART:20240310T090000
END:DAYLIGHT
BEGIN:STANDARD
TZOFFSETFROM:-0600
TZOFFSETTO:-0700
TZNAME:MST
DTSTART:20241103T080000
END:STANDARD
END:VTIMEZONE
BEGIN:VEVENT
DTSTART;TZID=America/Edmonton:20240920T113000
DTEND;TZID=America/Edmonton:20240920T123000
DTSTAMP:20260424T020938
CREATED:20240828T175221Z
LAST-MODIFIED:20240903T173612Z
UID:9274-1726831800-1726835400@www.sanqc.ca
SUMMARY:Week of Welcome • Spin to Win
DESCRIPTION:Stop by the NorQuest Library to test your knowledge of the Learner Centre\, learn about their services\, and win some fun prizes! \n  \n
URL:https://www.sanqc.ca/event/fall24spin/
LOCATION:Learner Centre\, 10215 108 Street NW\, Edmonton\, AB\, T5J 1L6\, Canada
CATEGORIES:NorQuest Event
ATTACH;FMTTYPE=image/png:/wp-content/uploads/2024/08/WoW-F2024.png
END:VEVENT
END:VCALENDAR