BEGIN:VCALENDAR
VERSION:2.0
PRODID:-//SANQC - ECPv4.9.14//NONSGML v1.0//EN
CALSCALE:GREGORIAN
METHOD:PUBLISH
X-WR-CALNAME:SANQC
X-ORIGINAL-URL:https://www.sanqc.ca
X-WR-CALDESC:Events for SANQC
BEGIN:VTIMEZONE
TZID:America/Edmonton
BEGIN:DAYLIGHT
TZOFFSETFROM:-0700
TZOFFSETTO:-0600
TZNAME:MDT
DTSTART:20250309T090000
END:DAYLIGHT
BEGIN:STANDARD
TZOFFSETFROM:-0600
TZOFFSETTO:-0700
TZNAME:MST
DTSTART:20251102T080000
END:STANDARD
END:VTIMEZONE
BEGIN:VEVENT
DTSTART;TZID=America/Edmonton:20250918T120000
DTEND;TZID=America/Edmonton:20250918T140000
DTSTAMP:20260423T232122
CREATED:20250826T180211Z
LAST-MODIFIED:20250829T202439Z
UID:9907-1758196800-1758204000@www.sanqc.ca
SUMMARY:Week of Welcome • Coffee with the Candidates
DESCRIPTION:The Students’ Council election is approaching\, do you have questions for the candidates or just want to get to know them better before it’s time to decide your vote? \nStop by to chat with them\, find out more about their platforms and what is driving them to become a part of YOUR Students’ Council. \nOh\, and get your FREE coffee too! \n  \n
URL:https://www.sanqc.ca/event/fall25candidates/
LOCATION:Atrium (1-001)\, 10215 108 St NW\, Edmonton\, Alberta\, T5J 1L6\, Canada
CATEGORIES:Students' Council
ATTACH;FMTTYPE=image/png:/wp-content/uploads/2025/08/Coffee-w-Candidate.png
END:VEVENT
END:VCALENDAR