BEGIN:VCALENDAR
VERSION:2.0
PRODID:-//SANQC - ECPv4.9.14//NONSGML v1.0//EN
CALSCALE:GREGORIAN
METHOD:PUBLISH
X-WR-CALNAME:SANQC
X-ORIGINAL-URL:https://www.sanqc.ca
X-WR-CALDESC:Events for SANQC
BEGIN:VTIMEZONE
TZID:America/Edmonton
BEGIN:DAYLIGHT
TZOFFSETFROM:-0700
TZOFFSETTO:-0600
TZNAME:MDT
DTSTART:20250309T090000
END:DAYLIGHT
BEGIN:STANDARD
TZOFFSETFROM:-0600
TZOFFSETTO:-0700
TZNAME:MST
DTSTART:20251102T080000
END:STANDARD
END:VTIMEZONE
BEGIN:VEVENT
DTSTART;VALUE=DATE:20250915
DTEND;VALUE=DATE:20250920
DTSTAMP:20260423T224155
CREATED:20250825T172401Z
LAST-MODIFIED:20250903T161838Z
UID:9890-1757894400-1758326399@www.sanqc.ca
SUMMARY:Week of Welcome • Make a Bead Buddy at the Pride Lounge
DESCRIPTION:To welcome new NorQuesters in Fall 2025\, the Pride Lounge will be open every day from September 15th to 19th. New and existing NorQuesters are invited to drop in between 9 am – 12 pm and 1 – 4 pm to explore the Pride Lounge space and discover the various events\, activities and opportunities offered by NorQuest Pride. \nVisitors will also be able to learn how to make their own beaded keychains in fun shapes and take a little “Bead Buddy” home with them! The event will happen on a drop-in basis and is free for the NorQuest community. \n  \n
URL:https://www.sanqc.ca/event/fall25pride/
LOCATION:Pride Lounge\, 5-215A\, CELT\, Edmonton\, Alberta\, T5J 1L6\, Canada
CATEGORIES:NorQuest Event
ATTACH;FMTTYPE=image/png:/wp-content/uploads/2025/08/Event-image-beading.png
ORGANIZER;CN="NorQuest%20Pride":MAILTO:pride@norquest.ca
END:VEVENT
END:VCALENDAR