BEGIN:VCALENDAR
VERSION:2.0
PRODID:-//SANQC - ECPv4.9.14//NONSGML v1.0//EN
CALSCALE:GREGORIAN
METHOD:PUBLISH
X-WR-CALNAME:SANQC
X-ORIGINAL-URL:https://www.sanqc.ca
X-WR-CALDESC:Events for SANQC
BEGIN:VTIMEZONE
TZID:America/Edmonton
BEGIN:DAYLIGHT
TZOFFSETFROM:-0700
TZOFFSETTO:-0600
TZNAME:MDT
DTSTART:20250309T090000
END:DAYLIGHT
BEGIN:STANDARD
TZOFFSETFROM:-0600
TZOFFSETTO:-0700
TZNAME:MST
DTSTART:20251102T080000
END:STANDARD
END:VTIMEZONE
BEGIN:VEVENT
DTSTART;TZID=America/Edmonton:20250917T100000
DTEND;TZID=America/Edmonton:20250917T140000
DTSTAMP:20260423T225209
CREATED:20250825T173209Z
LAST-MODIFIED:20250825T173209Z
UID:9894-1758103200-1758117600@www.sanqc.ca
SUMMARY:Week of Welcome • Student Services Information Fair
DESCRIPTION:Don’t miss out on the opportunity to connect and learn more about NorQuest’s incredible support services like mental health\, technology\, tutoring\, accessibility and many more! \nWhile browsing at the event\, enter your name for amazing prizes! \n  \n
URL:https://www.sanqc.ca/event/fall25ssif/
LOCATION:Atrium (1-001)\, 10215 108 St NW\, Edmonton\, Alberta\, T5J 1L6\, Canada
CATEGORIES:NorQuest Event
ATTACH;FMTTYPE=image/png:/wp-content/uploads/2024/08/SSIF.png
END:VEVENT
END:VCALENDAR