BEGIN:VCALENDAR
VERSION:2.0
PRODID:-//SANQC - ECPv4.9.14//NONSGML v1.0//EN
CALSCALE:GREGORIAN
METHOD:PUBLISH
X-WR-CALNAME:SANQC
X-ORIGINAL-URL:https://www.sanqc.ca
X-WR-CALDESC:Events for SANQC
BEGIN:VTIMEZONE
TZID:America/Edmonton
BEGIN:DAYLIGHT
TZOFFSETFROM:-0700
TZOFFSETTO:-0600
TZNAME:MDT
DTSTART:20170312T090000
END:DAYLIGHT
BEGIN:STANDARD
TZOFFSETFROM:-0600
TZOFFSETTO:-0700
TZNAME:MST
DTSTART:20171105T080000
END:STANDARD
END:VTIMEZONE
BEGIN:VEVENT
DTSTART;TZID=America/Edmonton:20171025T180000
DTEND;TZID=America/Edmonton:20171025T203000
DTSTAMP:20260424T013211
CREATED:20170811T202746Z
LAST-MODIFIED:20171003T221507Z
UID:588-1508954400-1508963400@www.sanqc.ca
SUMMARY:Family Halloween Party
DESCRIPTION:Join SANQC for this fun filled event. We’ll have dinner\, games\, prizes and a fantastic magic show! \n$5 per person 12 and older. Kids under 12 are free. \nSpace is limited\, the registration and payment deadline is Wed\, Oct 18 at 4 PM. \nTo pay for your tickets\, visit the SANQC Office (1-114) after registering. \n
URL:https://www.sanqc.ca/event/family-halloween-party/
LOCATION:Atrium (1-001)\, 10215 108 St NW\, Edmonton\, Alberta\, T5J 1L6\, Canada
CATEGORIES:Social Events
ATTACH;FMTTYPE=image/jpeg:/wp-content/uploads/2017/08/Section-3-Halloween.jpg
END:VEVENT
END:VCALENDAR