BEGIN:VCALENDAR
VERSION:2.0
PRODID:-//SANQC - ECPv4.9.14//NONSGML v1.0//EN
CALSCALE:GREGORIAN
METHOD:PUBLISH
X-WR-CALNAME:SANQC
X-ORIGINAL-URL:https://www.sanqc.ca
X-WR-CALDESC:Events for SANQC
BEGIN:VTIMEZONE
TZID:America/Edmonton
BEGIN:DAYLIGHT
TZOFFSETFROM:-0700
TZOFFSETTO:-0600
TZNAME:MDT
DTSTART:20220313T090000
END:DAYLIGHT
BEGIN:STANDARD
TZOFFSETFROM:-0600
TZOFFSETTO:-0700
TZNAME:MST
DTSTART:20221106T080000
END:STANDARD
END:VTIMEZONE
BEGIN:VEVENT
DTSTART;TZID=America/Edmonton:20220210T120000
DTEND;TZID=America/Edmonton:20220210T140000
DTSTAMP:20260424T054828
CREATED:20220131T171009Z
LAST-MODIFIED:20220131T171148Z
UID:7417-1644494400-1644501600@www.sanqc.ca
SUMMARY:Crafting with SANQC • Make it Valentine's
DESCRIPTION:From Valentine cards to origami roses\, join us to craft something you can gift to your loved ones on Valentine’s Day. Follow along on Blackboard to create these special gifts that your special someone will surely adore. \nHere’s what you’ll need: \nValentine’s Card \n\nRed\, brown and white craft paper\nScissors\nGlue\nPencil\nMarker\n\nOrigami Rose \n\nRed & green craft paper\n\nTwo lucky Winter term NorQuest students who participate will win a $25 gift card during the event to help them on their crafting journey. \nJoin the fun on Blackboard here. \n  \n
URL:https://www.sanqc.ca/event/feb10valentines/
LOCATION:Blackboard
CATEGORIES:Social Events
ATTACH;FMTTYPE=image/png:/wp-content/uploads/2022/01/Valentine-Crafting.png
END:VEVENT
END:VCALENDAR