BEGIN:VCALENDAR
VERSION:2.0
PRODID:-//SANQC - ECPv4.9.14//NONSGML v1.0//EN
CALSCALE:GREGORIAN
METHOD:PUBLISH
X-WR-CALNAME:SANQC
X-ORIGINAL-URL:https://www.sanqc.ca
X-WR-CALDESC:Events for SANQC
BEGIN:VTIMEZONE
TZID:America/Edmonton
BEGIN:DAYLIGHT
TZOFFSETFROM:-0700
TZOFFSETTO:-0600
TZNAME:MDT
DTSTART:20260308T090000
END:DAYLIGHT
BEGIN:STANDARD
TZOFFSETFROM:-0600
TZOFFSETTO:-0700
TZNAME:MST
DTSTART:20261101T080000
END:STANDARD
END:VTIMEZONE
BEGIN:VEVENT
DTSTART;TZID=America/Edmonton:20260212T100000
DTEND;TZID=America/Edmonton:20260212T150000
DTSTAMP:20260423T214057
CREATED:20250813T221850Z
LAST-MODIFIED:20251118T154043Z
UID:9757-1770890400-1770908400@www.sanqc.ca
SUMMARY:Valentine's Day Crafting
DESCRIPTION:Get creative and spread the love! Join us for a fun and relaxing Valentine’s Day Crafting session where you can design your own mini flower vase — perfect for gifting or brightening up your space. \nWe’ll have lots of yummy treats (yes\, including chocolates!)\, fun activities and even a Photobooth to help you capture all the memories! \nAll supplies provided — just bring your creativity! \n  \n
URL:https://www.sanqc.ca/event/feb12valentines/
LOCATION:Atrium (1-001)\, 10215 108 St NW\, Edmonton\, Alberta\, T5J 1L6\, Canada
CATEGORIES:Social Events
ATTACH;FMTTYPE=image/png:/wp-content/uploads/2025/11/Valentine.png
END:VEVENT
END:VCALENDAR