BEGIN:VCALENDAR
VERSION:2.0
PRODID:-//SANQC - ECPv4.9.14//NONSGML v1.0//EN
CALSCALE:GREGORIAN
METHOD:PUBLISH
X-WR-CALNAME:SANQC
X-ORIGINAL-URL:https://www.sanqc.ca
X-WR-CALDESC:Events for SANQC
BEGIN:VTIMEZONE
TZID:America/Edmonton
BEGIN:DAYLIGHT
TZOFFSETFROM:-0700
TZOFFSETTO:-0600
TZNAME:MDT
DTSTART:20220313T090000
END:DAYLIGHT
BEGIN:STANDARD
TZOFFSETFROM:-0600
TZOFFSETTO:-0700
TZNAME:MST
DTSTART:20221106T080000
END:STANDARD
END:VTIMEZONE
BEGIN:VEVENT
DTSTART;VALUE=DATE:20220214
DTEND;VALUE=DATE:20220215
DTSTAMP:20260424T043722
CREATED:20220131T171929Z
LAST-MODIFIED:20220131T171929Z
UID:7421-1644796800-1644883199@www.sanqc.ca
SUMMARY:Take a Guess\, Leave a Note
DESCRIPTION:Can you guess how many chocolates there are in our Valentine jar? If you were to send a love note to yourself\, what would it say? Follow us on Facebook or Instagram and participate in our Take a Guess\, Leave a Note virtual event for a chance to win a basket full of chocolates or a $100 Boston Pizza gift card to enjoy. Here’s how to participate: \nTake a Guess: We’ll post a picture of a jar full of chocolates on our Facebook & Instagram stories. All you need to do is type your guess on how many chocolates you think are in the jar. The Winter 2022 NorQuest student who has the closest guess will win a basket full of chocolates. In case of a tie\, the student who has given the correct answer first wins! \nLeave a Note: It’s Valentine’s Day and we usually give a love letter a special someone. This time\, we want you to encourage yourself by posting a love note to YOU. What would you like to tell yourself? Speak words of encouragement\, self-empowering motivations and more! Winter 2022 NorQuest students who participate will be entered to win a $100 Boston Pizza gift card! Visit our Facebook or Instagram stories on Feb 14 to celebrate you! We will share the responses on our stories to highlight these encouragements with everybody who stops by. \nTreats Booth in Imagine Hall: For those who are on campus\, grab one of our Valentine game kits in Imagine Hall that includes word searches\, tic-tac-toe\, connect the dots and puzzle games. You can also get a bag of candies and chocolates as a treat! First come\, first served while supplies last. \n  \n
URL:https://www.sanqc.ca/event/feb14guessnote/
CATEGORIES:Social Events
ATTACH;FMTTYPE=image/png:/wp-content/uploads/2022/01/Take-a-Guess-Leave-a-Note.png
END:VEVENT
END:VCALENDAR