BEGIN:VCALENDAR
VERSION:2.0
PRODID:-//SANQC - ECPv4.9.14//NONSGML v1.0//EN
CALSCALE:GREGORIAN
METHOD:PUBLISH
X-WR-CALNAME:SANQC
X-ORIGINAL-URL:https://www.sanqc.ca
X-WR-CALDESC:Events for SANQC
BEGIN:VTIMEZONE
TZID:America/Edmonton
BEGIN:DAYLIGHT
TZOFFSETFROM:-0700
TZOFFSETTO:-0600
TZNAME:MDT
DTSTART:20240310T090000
END:DAYLIGHT
BEGIN:STANDARD
TZOFFSETFROM:-0600
TZOFFSETTO:-0700
TZNAME:MST
DTSTART:20241103T080000
END:STANDARD
END:VTIMEZONE
BEGIN:VEVENT
DTSTART;TZID=America/Edmonton:20240201T110000
DTEND;TZID=America/Edmonton:20240201T130000
DTSTAMP:20260423T235321
CREATED:20231204T184053Z
LAST-MODIFIED:20231211T212441Z
UID:8834-1706785200-1706792400@www.sanqc.ca
SUMMARY:Pet Therapy
DESCRIPTION:Are you ready for a paww-fectly delightful break from your busy student life? Join your Students’ Association\, CAAWLS and some adorable four-legged friends for a tail-wagging opportunity to de-stress and recharge. \nStop by the Multi-Purpose Space (1-096A) on Thu\, Feb 1 from 11 am – 1 pm for some fun and relaxing time with therapy dogs. \n  \n
URL:https://www.sanqc.ca/event/feb1pettherapy/
LOCATION:SANQC Multi-Purpose Space (1-096)\, 10215 108 St NW\, Edmonton\, Alberta\, T5J 1L6\, Canada
CATEGORIES:Mental Health Events
ATTACH;FMTTYPE=image/png:/wp-content/uploads/2023/12/Pet-Therapy.png
END:VEVENT
END:VCALENDAR