BEGIN:VCALENDAR
VERSION:2.0
PRODID:-//SANQC - ECPv4.9.14//NONSGML v1.0//EN
CALSCALE:GREGORIAN
METHOD:PUBLISH
X-WR-CALNAME:SANQC
X-ORIGINAL-URL:https://www.sanqc.ca
X-WR-CALDESC:Events for SANQC
BEGIN:VTIMEZONE
TZID:America/Edmonton
BEGIN:DAYLIGHT
TZOFFSETFROM:-0700
TZOFFSETTO:-0600
TZNAME:MDT
DTSTART:20180311T090000
END:DAYLIGHT
BEGIN:STANDARD
TZOFFSETFROM:-0600
TZOFFSETTO:-0700
TZNAME:MST
DTSTART:20181104T080000
END:STANDARD
END:VTIMEZONE
BEGIN:VEVENT
DTSTART;TZID=America/Edmonton:20180419T110000
DTEND;TZID=America/Edmonton:20180419T130000
DTSTAMP:20260423T212804
CREATED:20180322T153033Z
LAST-MODIFIED:20180410T174447Z
UID:2213-1524135600-1524142800@www.sanqc.ca
SUMMARY:Festival of Diversity
DESCRIPTION:Join SANQC for an amazing multicultural showcase! \nWe’ll have food and performers from a variety of cultures to amaze your eyes and your appetite! \nWe hope that those who attend will wear clothing from their culture to help make the event even that much more fantastic. \n
URL:https://www.sanqc.ca/event/festival-of-diversity/
LOCATION:Atrium (1-001)\, 10215 108 St NW\, Edmonton\, Alberta\, T5J 1L6\, Canada
CATEGORIES:Social Events
ATTACH;FMTTYPE=image/jpeg:/wp-content/uploads/2018/03/PB170120.jpg
END:VEVENT
END:VCALENDAR