BEGIN:VCALENDAR
VERSION:2.0
PRODID:-//SANQC - ECPv4.9.14//NONSGML v1.0//EN
CALSCALE:GREGORIAN
METHOD:PUBLISH
X-WR-CALNAME:SANQC
X-ORIGINAL-URL:https://www.sanqc.ca
X-WR-CALDESC:Events for SANQC
BEGIN:VTIMEZONE
TZID:America/Edmonton
BEGIN:DAYLIGHT
TZOFFSETFROM:-0700
TZOFFSETTO:-0600
TZNAME:MDT
DTSTART:20180311T090000
END:DAYLIGHT
BEGIN:STANDARD
TZOFFSETFROM:-0600
TZOFFSETTO:-0700
TZNAME:MST
DTSTART:20181104T080000
END:STANDARD
END:VTIMEZONE
BEGIN:VEVENT
DTSTART;TZID=America/Edmonton:20181203T060000
DTEND;TZID=America/Edmonton:20181203T220000
DTSTAMP:20260423T214410
CREATED:20181016T151126Z
LAST-MODIFIED:20181016T151126Z
UID:3012-1543816800-1543874400@www.sanqc.ca
SUMMARY:FREE Gym Day @ United by Wellness
DESCRIPTION:Your Students’ Association is partnering with United by Wellness to offer ALL DAY access to their fitness facility at Unit 201 (2nd floor) 10125 109 st NW (Across from Save on Foods). \nYour NorQuest student ID will give you full access to lockers\, equipment and a special NorQuest only spin class from 12 – 1 pm. You can sign up at for the class here\, use code SANQC and it’s FREE! \nThis one day event will allow all students will get 25% off food & drinks from Soulful Ingredients\, your first service at M.INT Salon & Spa (Massage or Lashes) and your first purchase of in-store retail products (beauty\, hair care\, tanning and supplements). \nIf you are interested in an ongoing membership\, you can do so for the fantastic student price of $20/month. \n
URL:https://www.sanqc.ca/event/free-gym-day-united-by-wellness-2/
LOCATION:United by Wellness\, Unit 201\, 10125 109 St NW\, Edmonton\, AB\, T5J 3M5\, Canada
CATEGORIES:Mental Health Events
ATTACH;FMTTYPE=image/jpeg:/wp-content/uploads/2018/09/UnitedByWellness.jpg
ORGANIZER;CN="United%20by%20Wellness":MAILTO:info@unitedbywellness.com
END:VEVENT
END:VCALENDAR