BEGIN:VCALENDAR
VERSION:2.0
PRODID:-//SANQC - ECPv4.9.14//NONSGML v1.0//EN
CALSCALE:GREGORIAN
METHOD:PUBLISH
X-WR-CALNAME:SANQC
X-ORIGINAL-URL:https://www.sanqc.ca
X-WR-CALDESC:Events for SANQC
BEGIN:VTIMEZONE
TZID:America/Edmonton
BEGIN:DAYLIGHT
TZOFFSETFROM:-0700
TZOFFSETTO:-0600
TZNAME:MDT
DTSTART:20190310T090000
END:DAYLIGHT
BEGIN:STANDARD
TZOFFSETFROM:-0600
TZOFFSETTO:-0700
TZNAME:MST
DTSTART:20191103T080000
END:STANDARD
END:VTIMEZONE
BEGIN:VEVENT
DTSTART;TZID=America/Edmonton:20190212T110000
DTEND;TZID=America/Edmonton:20190212T143000
DTSTAMP:20260424T001504
CREATED:20190128T213359Z
LAST-MODIFIED:20190129T175621Z
UID:3504-1549969200-1549981800@www.sanqc.ca
SUMMARY:FREE Haircuts for Students
DESCRIPTION:Peer Support is bringing you FREE haircuts for students! There will be two stylists who are able to cut any gender\, length\, or texture of hair! Stylists are from Shadified Salon and Spa in North Edmonton. Join us for a free cut\, style or maybe even a new shaved hair design! \nIn order to receive a haircut the stylists will require freshly cleaned and dry hair. If you have textured hair and can straighten it\, that will help the stylist complete your haircut efficiently. \nStudent ID required and haircuts are drop in only. First come\, first served.  \n
URL:https://www.sanqc.ca/event/free-haircuts-for-students/
LOCATION:SANQC Multi-Purpose Space (1-096)\, 10215 108 St NW\, Edmonton\, Alberta\, T5J 1L6\, Canada
CATEGORIES:Mental Health Events
END:VEVENT
END:VCALENDAR