BEGIN:VCALENDAR
VERSION:2.0
PRODID:-//SANQC - ECPv4.9.14//NONSGML v1.0//EN
CALSCALE:GREGORIAN
METHOD:PUBLISH
X-WR-CALNAME:SANQC
X-ORIGINAL-URL:https://www.sanqc.ca
X-WR-CALDESC:Events for SANQC
BEGIN:VTIMEZONE
TZID:America/Edmonton
BEGIN:DAYLIGHT
TZOFFSETFROM:-0700
TZOFFSETTO:-0600
TZNAME:MDT
DTSTART:20190310T090000
END:DAYLIGHT
BEGIN:STANDARD
TZOFFSETFROM:-0600
TZOFFSETTO:-0700
TZNAME:MST
DTSTART:20191103T080000
END:STANDARD
END:VTIMEZONE
BEGIN:VEVENT
DTSTART;TZID=America/Edmonton:20190225T100000
DTEND;TZID=America/Edmonton:20190225T150000
DTSTAMP:20260423T223915
CREATED:20190128T221905Z
LAST-MODIFIED:20190128T223450Z
UID:3517-1551088800-1551106800@www.sanqc.ca
SUMMARY:Free Store • Spring Cleaning
DESCRIPTION:This month the Free Store theme will be spring cleaning. At the Free Store you can find gently used and donated items such as household goods\, clothing\, accessories\, children’s toys\, stationary and more. All items are free but you should arrive early for the best selection. \n
URL:https://www.sanqc.ca/event/free-store-%e2%80%a2-spring-cleaning/
LOCATION:SANQC Multi-Purpose Space (1-096)\, 10215 108 St NW\, Edmonton\, Alberta\, T5J 1L6\, Canada
CATEGORIES:Mental Health Events
ATTACH;FMTTYPE=image/jpeg:/wp-content/uploads/2019/01/50998029_10161177081555316_4091345116994732032_n.jpg
END:VEVENT
END:VCALENDAR