BEGIN:VCALENDAR
VERSION:2.0
PRODID:-//SANQC - ECPv4.9.14//NONSGML v1.0//EN
CALSCALE:GREGORIAN
METHOD:PUBLISH
X-WR-CALNAME:SANQC
X-ORIGINAL-URL:https://www.sanqc.ca
X-WR-CALDESC:Events for SANQC
BEGIN:VTIMEZONE
TZID:America/Edmonton
BEGIN:DAYLIGHT
TZOFFSETFROM:-0700
TZOFFSETTO:-0600
TZNAME:MDT
DTSTART:20210314T090000
END:DAYLIGHT
BEGIN:STANDARD
TZOFFSETFROM:-0600
TZOFFSETTO:-0700
TZNAME:MST
DTSTART:20211107T080000
END:STANDARD
END:VTIMEZONE
BEGIN:VEVENT
DTSTART;TZID=America/Edmonton:20211125T090000
DTEND;TZID=America/Edmonton:20211125T150000
DTSTAMP:20260424T013018
CREATED:20211117T225016Z
LAST-MODIFIED:20211117T225131Z
UID:6835-1637830800-1637852400@www.sanqc.ca
SUMMARY:Free Store
DESCRIPTION:It’s Free Store time again! Stop by and browse through the gently used and donated items. Each Free Store has a variety of different items from school supplies\, clothing\, household goods\, kitchen wares\, children’s toys and other everyday items. \nBut there’s more! For the first time\, Free Store will include packaged food including canned goods\, pasta\, and more! \n  \n
URL:https://www.sanqc.ca/event/free-store-12/
LOCATION:SANQC Multi-Purpose Space (1-096)\, 10215 108 St NW\, Edmonton\, Alberta\, T5J 1L6\, Canada
CATEGORIES:Mental Health Events
ATTACH;FMTTYPE=image/png:/wp-content/uploads/2021/11/Free-Store-Nov-25.png
END:VEVENT
END:VCALENDAR