BEGIN:VCALENDAR
VERSION:2.0
PRODID:-//SANQC - ECPv4.9.14//NONSGML v1.0//EN
CALSCALE:GREGORIAN
METHOD:PUBLISH
X-WR-CALNAME:SANQC
X-ORIGINAL-URL:https://www.sanqc.ca
X-WR-CALDESC:Events for SANQC
BEGIN:VTIMEZONE
TZID:America/Edmonton
BEGIN:DAYLIGHT
TZOFFSETFROM:-0700
TZOFFSETTO:-0600
TZNAME:MDT
DTSTART:20190310T090000
END:DAYLIGHT
BEGIN:STANDARD
TZOFFSETFROM:-0600
TZOFFSETTO:-0700
TZNAME:MST
DTSTART:20191103T080000
END:STANDARD
END:VTIMEZONE
BEGIN:VEVENT
DTSTART;TZID=America/Edmonton:20190513T100000
DTEND;TZID=America/Edmonton:20190513T150000
DTSTAMP:20260423T224339
CREATED:20190423T170248Z
LAST-MODIFIED:20190423T170248Z
UID:3852-1557741600-1557759600@www.sanqc.ca
SUMMARY:Free Store
DESCRIPTION:This time around the Free Store theme is summer! At the Free Store you can find gently used and donated items such as household goods\, clothing\, accessories\, children’s toys\, stationary and more. \nAll items are free but you should arrive early for best selection. There will also be resources on free things to do in the summer! \n
URL:https://www.sanqc.ca/event/free-store-4/
LOCATION:SANQC Multi-Purpose Space (1-096)\, 10215 108 St NW\, Edmonton\, Alberta\, T5J 1L6\, Canada
CATEGORIES:Social Events
END:VEVENT
END:VCALENDAR