BEGIN:VCALENDAR
VERSION:2.0
PRODID:-//SANQC - ECPv4.9.14//NONSGML v1.0//EN
CALSCALE:GREGORIAN
METHOD:PUBLISH
X-WR-CALNAME:SANQC
X-ORIGINAL-URL:https://www.sanqc.ca
X-WR-CALDESC:Events for SANQC
BEGIN:VTIMEZONE
TZID:America/Edmonton
BEGIN:DAYLIGHT
TZOFFSETFROM:-0700
TZOFFSETTO:-0600
TZNAME:MDT
DTSTART:20190310T090000
END:DAYLIGHT
BEGIN:STANDARD
TZOFFSETFROM:-0600
TZOFFSETTO:-0700
TZNAME:MST
DTSTART:20191103T080000
END:STANDARD
END:VTIMEZONE
BEGIN:VEVENT
DTSTART;TZID=America/Edmonton:20190923T090000
DTEND;TZID=America/Edmonton:20190923T160000
DTSTAMP:20260424T104755
CREATED:20190829T230535Z
LAST-MODIFIED:20190829T230535Z
UID:4033-1569229200-1569254400@www.sanqc.ca
SUMMARY:Free Store
DESCRIPTION:Welcome back to school\, it’s time for the first Free Store of the term! \nYou can pop by and browse through the gently used and donated items. Each Free Store has a variety of different items from school supplies\, clothing\, household goods\, kitchen wares\, children’s toys and more. We will also be giving you resources to help manage the stress of getting you and your family back to school. \n
URL:https://www.sanqc.ca/event/free-store-6/
LOCATION:SANQC Multi-Purpose Space (1-096)\, 10215 108 St NW\, Edmonton\, Alberta\, T5J 1L6\, Canada
CATEGORIES:Mental Health Events
ATTACH;FMTTYPE=image/jpeg:/wp-content/uploads/2019/08/b26f3574-eeaa-4922-914a-778dc76bd5b7.jpg
END:VEVENT
END:VCALENDAR